BEGIN:VCALENDAR
VERSION:2.0
PRODID:-//wp-events-plugin.com//7.2.3.1//EN
TZID:Europe/Berlin
X-WR-TIMEZONE:Europe/Berlin
BEGIN:VEVENT
UID:12020@literaturseiten-muenchen.de
DTSTART;TZID=Europe/Berlin:20251111T190000
DTEND;TZID=Europe/Berlin:20251111T203000
DTSTAMP:20251028T141254Z
URL:https://www.literaturseiten-muenchen.de/veranstaltungen/80-jahre-liter
 arisches-gedaechtnis-in-der-erinnerungskultur-gespraech-mit-rachel-salaman
 der/
SUMMARY:80 Jahre literarisches Gedächtnis in der Erinnerungskultur. Gespr
 äch mit Rachel Salamander
DESCRIPTION:Literaturwissenschaftlerin Rachel Salamander diskutiert mit Stu
 dierenden der Münchner Universitäten über Chancen und Herausforderungen
  von Literatur als ein erinnerungskulturelles Medium.\nWelche Bedeutung ha
 ben autobiografische Erlebnisberichte von Holocaust-Überlebenden und dere
 n Nachkomm*innen achtzig Jahre nach Ende des Holocaust? Und welche Rolle k
 ann Literatur in der gegenwärtigen\, zunehmend digitalisierten Erinnerung
 skultur spielen?\nBegrüßung: Jutta Fleckenstein\, Jüdisches Museum Mün
 chen\nModeration: Simon Fetscher &amp\; Paul Anton Schulz-Isenbeck\, stude
 nts remember\nEine Veranstaltung von students remember. Studentischer Vere
 in zur Förderung von Erinnerungskultur e. V.\, den Münchner Kammerspiele
 n und dem Jüdischen Museum München\nAnmeldung erforderlich über den Tic
 ketshop | Eintritt frei
CATEGORIES:Gespräch / Diskussion
LOCATION:Jüdisches Museum München\, St.-Jakobs-Platz 16\, München\, Baye
 rn \, 80331\, Altstadt \, Deutschland
GEO:48.134347;11.572283
X-APPLE-STRUCTURED-LOCATION;VALUE=URI;X-ADDRESS=St.-Jakobs-Platz 16\, Münc
 hen\, Bayern \, 80331\, Altstadt \, Deutschland;X-APPLE-RADIUS=100;X-TITLE
 =Jüdisches Museum München:geo:48.134347,11.572283
END:VEVENT
BEGIN:VTIMEZONE
TZID:Europe/Berlin
X-LIC-LOCATION:Europe/Berlin
BEGIN:STANDARD
DTSTART:20251026T020000
TZOFFSETFROM:+0200
TZOFFSETTO:+0100
TZNAME:CET
END:STANDARD
END:VTIMEZONE
END:VCALENDAR