BEGIN:VCALENDAR
VERSION:2.0
PRODID:-//wp-events-plugin.com//7.2.3.1//EN
TZID:Europe/Berlin
X-WR-TIMEZONE:Europe/Berlin
BEGIN:VEVENT
UID:12205@literaturseiten-muenchen.de
DTSTART;TZID=Europe/Berlin:20260205T190000
DTEND;TZID=Europe/Berlin:20260205T203000
DTSTAMP:20251203T152452Z
URL:https://www.literaturseiten-muenchen.de/veranstaltungen/ahmad-milad-ka
 rimi-ki-und-die-religionen-oder-wie-sich-die-gottesfrage-neu-stellt/
SUMMARY:Ahmad Milad Karimi: KI und die Religionen. Oder wie sich die Gottes
 frage neu stellt
DESCRIPTION:Die Rasanz der technologischen Entwicklung stellt auch die Reli
 gionen vor Herausforderungen. Nicht zuletzt die Etablierung der Künstlich
 en Intelligenz scheint zu zeigen\, dass der Mensch Religion in einer vollv
 ernetzten Welt gar nicht mehr zu benötigen scheint. Wie also sieht die Zu
 kunft von Spiritualität und theologischer Debatte aus? Was bedeutet Endli
 chkeit noch\, wenn Künstliche Intelligenz Unsterblichkeit suggeriert? Und
  wie begegnen Religionen dieser Entwicklung?\n\nProf. Dr. Ahmad Milad Kari
 mi\nProfessor für Kalam\, Islamische Philosophie und Mystik an der Univer
 sität Münster sowie Direktor der Forschungsstelle Theologie der Künstli
 chen Intelligenz (FSTKI). 2024 hat er das Buch "Gott 2.0. Grundfragen eine
 r KI der Religion" veröffentlicht.\n\nAnmeldung erbeten unter:\nhttps://w
 ww.stadtakademie-muenchen.de/veranstaltung/ki-und-die-religionen/
CATEGORIES:Gespräch / Diskussion,Vortrag
LOCATION:Münchner Volkshochschule (MVHS)\, Einsteinstr. 28\, München\, 81
 675\, Deutschland
GEO:48.135316;11.599715
X-APPLE-STRUCTURED-LOCATION;VALUE=URI;X-ADDRESS=Einsteinstr. 28\, München\
 , 81675\, Deutschland;X-APPLE-RADIUS=100;X-TITLE=Münchner Volkshochschule
  (MVHS):geo:48.135316,11.599715
END:VEVENT
BEGIN:VTIMEZONE
TZID:Europe/Berlin
X-LIC-LOCATION:Europe/Berlin
BEGIN:STANDARD
DTSTART:20251026T020000
TZOFFSETFROM:+0200
TZOFFSETTO:+0100
TZNAME:CET
END:STANDARD
END:VTIMEZONE
END:VCALENDAR