BEGIN:VCALENDAR
VERSION:2.0
PRODID:-//wp-events-plugin.com//7.2.3.1//EN
TZID:Europe/Berlin
X-WR-TIMEZONE:Europe/Berlin
BEGIN:VEVENT
UID:11592@literaturseiten-muenchen.de
DTSTART;TZID=Europe/Berlin:20250910T180000
DTEND;TZID=Europe/Berlin:20250910T193000
DTSTAMP:20250815T113827Z
URL:https://www.literaturseiten-muenchen.de/veranstaltungen/aktien-tango-t
 od-uwe-kullnick-spricht-mit-georg-brun-hoerbahn-on-stage/
SUMMARY:"Aktien\, Tango &amp\; Tod" – Uwe Kullnick spricht  mit Georg Bru
 n – Hörbahn on Stage
DESCRIPTION:"Aktien\, Tango &amp\; Tod" – Uwe Kullnick spricht mit Georg 
 Brun – Hörbahn on Stage\nZwei Morde\, ein undurchsichtiges Geflecht aus
  Macht\, Gier und Verrat – und mittendrin zwei Frauen\, die nicht locker
 lassen. Als Martha Manns Tanzpartner und Geliebter Carsten ermordet wird\,
  sucht sie Trost in der Wahrheit – und gerät in einen Strudel aus Korru
 ption und Intrigen\, der bis in die Führungsetagen börsennotierter Unter
 nehmen reicht. Gemeinsam mit der mutigen Podcasterin Clara deckt sie auf\,
  was niemand wissen soll: manipulierte Beweise\, skrupellose Manager\, ein
  Killer auf der Flucht und Polizisten\, die auf der falschen Seite stehen.
  Die Ermittlungen führen von München bis nach London – und bringen bei
 de Frauen in tödliche Gefahr. Ein Kriminalroman\, der mit Tempo\, Tiefgan
 g und überraschenden Wendungen fesselt – bis zum letzten Satz! ...\n\nG
 eorg Brun - Vergehen und Verbrechen aus interessanten Bereichen des Lebens
  garantieren spannende Unterhaltung. Seit drei Jahren schreibt er Krimis. 
 Als früherer Kriminalbeamter und später jahrelang im Wissenschaftsbereic
 h tätiger Jurist weiß er\, wovon er schreibt. Ob in der Olga-Reihe sanft
 e Krimis oder mit dem pensionierten Hauptkommissar Nathan Weiß knallharte
  Thrills: seine handfesten Charaktere wissen zu fesseln.\n\nEintritt frei
CATEGORIES:Gespräch / Diskussion,Lesung
LOCATION:Bayerische Einigung/Bayerische Volksstiftung\, Georgenstraße 63\,
  München\, Bayern\, 80799\, Deutschland
GEO:48.156133;11.571471
X-APPLE-STRUCTURED-LOCATION;VALUE=URI;X-ADDRESS=Georgenstraße 63\, Münche
 n\, Bayern\, 80799\, Deutschland;X-APPLE-RADIUS=100;X-TITLE=Bayerische Ein
 igung/Bayerische Volksstiftung:geo:48.156133,11.571471
END:VEVENT
BEGIN:VTIMEZONE
TZID:Europe/Berlin
X-LIC-LOCATION:Europe/Berlin
BEGIN:DAYLIGHT
DTSTART:20250330T030000
TZOFFSETFROM:+0100
TZOFFSETTO:+0200
TZNAME:CEST
END:DAYLIGHT
END:VTIMEZONE
END:VCALENDAR