BEGIN:VCALENDAR
VERSION:2.0
PRODID:-//wp-events-plugin.com//7.2.3.1//EN
TZID:Europe/Berlin
X-WR-TIMEZONE:Europe/Berlin
BEGIN:VEVENT
UID:11983@literaturseiten-muenchen.de
DTSTART;TZID=Europe/Berlin:20251112T200000
DTEND;TZID=Europe/Berlin:20251112T220000
DTSTAMP:20251017T082738Z
URL:https://www.literaturseiten-muenchen.de/veranstaltungen/alexander-hack
 e-liest-aus-krach-reloaded/
SUMMARY:Alexander Hacke liest aus »Krach Reloaded«
DESCRIPTION:Lesung &amp\; Musik – Alexander Hacke ist früh besessen von 
 klassischer Musik\, schmeißt dann aber doch lieber die Schule und treibt 
 sich in der in der Westberliner Untergrundszene zwischen Punks\, Hausbeset
 zern und Lebenskünstlern herum. Nach ersten Musikprojekten unter dem Pseu
 donym Alexander von Borsig wird Hacke Ende 1980 Mitglied der kurz zuvor ge
 gründeten Einstürzenden Neubauten. Die Einstürzenden Neubauten avancier
 en zur bahnbrechenden und überaus erfolgreichen Band\, während Hacke nic
 ht nur mit allerlei Aufputschmitteln experimentiert\, sondern sich musikal
 isch unermüdlich weiterentwickelt: Sei es zusammen mit seiner zwischenzei
 tlichen Partnerin Christiane F.\, als international erfolgreicher Solokün
 stler\, als Gitarrist bei Gianna Nanninis Album Dispetto\, als Filmkomponi
 st für Fatih Akin oder gemeinsam mit seiner Frau\, der Künstlerin Daniel
 le de Picciotto\, mit der er seit 2010 durch die Welt streift.\n\n»Krach 
 Reloaded« ist schillerndes Zeitzeugnis des wilden Westberlins vor der Wen
 de\, Aufstiegsgeschichte der Einstürzenden Neubauten und mitreißender Le
 bensbericht eines Tausendsassas in einem. Für die überarbeitete und erwe
 itere Neuauflage ergänzt Hacke seine 2015 erstmalig erschienenen Memoiren
  um die letzten 10 Jahre und zieht die Bilanz seiner einzigartigen Künstl
 erbiografie zwischen Avantgarde-Kunst\, Filmmusik und modernem Nomadentum.
 \n\nTickets: loveyourartist.com\, 12\,10/19\,80 €
CATEGORIES:Lesung,Literatur &amp; Musik
LOCATION:Heppel &amp\; Ettlich\, Feilitzschstr. 12\, München\, Deutschland
GEO:48.161154;11.588873
X-APPLE-STRUCTURED-LOCATION;VALUE=URI;X-ADDRESS=Feilitzschstr. 12\, Münche
 n\, Deutschland;X-APPLE-RADIUS=100;X-TITLE=Heppel & Ettlich:geo:48.161154,
 11.588873
END:VEVENT
BEGIN:VTIMEZONE
TZID:Europe/Berlin
X-LIC-LOCATION:Europe/Berlin
BEGIN:STANDARD
DTSTART:20251026T020000
TZOFFSETFROM:+0200
TZOFFSETTO:+0100
TZNAME:CET
END:STANDARD
END:VTIMEZONE
END:VCALENDAR