BEGIN:VCALENDAR
VERSION:2.0
PRODID:-//wp-events-plugin.com//7.2.3.1//EN
TZID:Europe/Berlin
X-WR-TIMEZONE:Europe/Berlin
BEGIN:VEVENT
UID:12251@literaturseiten-muenchen.de
DTSTART;TZID=Europe/Berlin:20260116T200000
DTEND;TZID=Europe/Berlin:20260116T200000
DTSTAMP:20251212T174604Z
URL:https://www.literaturseiten-muenchen.de/veranstaltungen/alexander-nets
 chajew-gert-wilden-die-13-monate-von-erich-kaest/
SUMMARY:Alexander Netschajew & Gert Wilden: „Die 13 Monate“ von Erich K
 äst
DESCRIPTION:Kästners Gedichtzyklus im Dialog mit Improvisationen und Kompo
 sitionen von Gert Wilden. Sprecher: Alexander Netschajew.\n\n\n„Die hier
  gesammelten Gedichte schrieb\, im Laufe eines Jahres\, ein Großstädter 
 für Großstädter.“ So beginnt Erich Kästner das Vorwort seiner „13 
 Monate“\, die 1955 als Gedichtband erschienen. Bereits zwei Jahre zuvor 
 hatte er für die Schweizer Illustrierte Zeitung Monat für Monat verfasst
 \, bevor er im Jahr darauf den „13. Monat“ erfand und beschloss\, dies
 e Gedichte als eigenes Buch mit einem Vorwort zu veröffentlichen. Es soll
 te sein letzter Gedichtband werden. Und aus heutiger Sicht erscheint Erich
  Kästner\, geboren 1899 in Dresden\, politischer Mahner mit spitzer Feder
 \, Kinderbuchautor und Romancier\, wie ein ökologischer Prophet der erste
 n Stunde. Fast 20 Jahre bevor der Club of Rome die Schrift „Grenzen des 
 Wachstums“ veröffentlichte\, formulierte Kästner die Entfremdung des M
 enschen von der Natur und von den ihr immanenten Kreisläufen. „Die zwei
 te Austreibung aus dem Paradies hat stattgefunden und Adam und Eva haben e
 s diesmal nicht bemerkt. Sie leben auf der Erde\, als lebten sie darunter.
 “\n\n\nNatürlich birgt Kästners Lyrik stets eine melancholische Heiter
 keit\, die auch heute noch frisch und kaum gealtert wirkt. Gibt man sich d
 iesen Versen „am Stück“ hin und lässt sich poetisch Monat für Monat
  durch das Jahr führen\, begegnet der Hörer den ewigen Zyklen des Werden
 s und Vergehens und letztlich auch der eigenen Vergänglichkeit. Gert Wild
 en begegnet Kästners verschmitzter Weisheit und Modernität auf ganz eige
 ne Weise: Seine dreizehn Kompositionen für Klavier und umfangreiches elek
 tronisches Instrumentarium nehmen zu Kästners Versen eine mitunter durcha
 us auch unerwartete Haltung ein\, ob minimalistisch oder opulent\, ob abst
 rakt oder poetisch\, ob in Form von Soundcollagen. Teils stehen Gedichte u
 nd Musik als in sich geschlossene Stücke nebeneinander\, teils durchdring
 en und überlagern sie sich gegenseitig.\n\n\nKlavier\, Keyboard\, Live El
 ectronics: Gert Wilden\n\nRezitation: Alexander Netschajew\n\nTickets ab 2
 8€\, reservix.de
CATEGORIES:Lesung
LOCATION:bosco Gauting\, Oberer Kirchenweg 1\, Gauting\, Bayern\, 82131\, D
 eutschland
GEO:48.067935;11.379542
X-APPLE-STRUCTURED-LOCATION;VALUE=URI;X-ADDRESS=Oberer Kirchenweg 1\, Gauti
 ng\, Bayern\, 82131\, Deutschland;X-APPLE-RADIUS=100;X-TITLE=bosco Gauting
 :geo:48.067935,11.379542
END:VEVENT
BEGIN:VTIMEZONE
TZID:Europe/Berlin
X-LIC-LOCATION:Europe/Berlin
BEGIN:STANDARD
DTSTART:20251026T020000
TZOFFSETFROM:+0200
TZOFFSETTO:+0100
TZNAME:CET
END:STANDARD
END:VTIMEZONE
END:VCALENDAR