BEGIN:VCALENDAR
VERSION:2.0
PRODID:-//wp-events-plugin.com//7.2.3.1//EN
TZID:Europe/Berlin
X-WR-TIMEZONE:Europe/Berlin
BEGIN:VEVENT
UID:11598@literaturseiten-muenchen.de
DTSTART;TZID=Europe/Berlin:20250907T143000
DTEND;TZID=Europe/Berlin:20250907T143000
DTSTAMP:20250815T170814Z
URL:https://www.literaturseiten-muenchen.de/veranstaltungen/alpines-museum
 -lesung-fuer-erwachsene/
SUMMARY:Alpines Museum: Lesung für Erwachsene
DESCRIPTION:In der Bibliothek kannst Du selbst lesen oder Dir an jedem erst
 en Sonntag im Monat vorlesen lassen. Für Erwachsene gibt es amüsante Ane
 kdoten aus der Geschichte des Alpinismus.
CATEGORIES:Lesung
LOCATION:Alpines Museum\, Praterinsel 5\, München\, Bayern\, 80538\, Deuts
 chland
GEO:48.135262;11.589077
X-APPLE-STRUCTURED-LOCATION;VALUE=URI;X-ADDRESS=Praterinsel 5\, München\, 
 Bayern\, 80538\, Deutschland;X-APPLE-RADIUS=100;X-TITLE=Alpines Museum:geo
 :48.135262,11.589077
END:VEVENT
BEGIN:VTIMEZONE
TZID:Europe/Berlin
X-LIC-LOCATION:Europe/Berlin
BEGIN:DAYLIGHT
DTSTART:20250330T030000
TZOFFSETFROM:+0100
TZOFFSETTO:+0200
TZNAME:CEST
END:DAYLIGHT
END:VTIMEZONE
END:VCALENDAR