BEGIN:VCALENDAR
VERSION:2.0
PRODID:-//wp-events-plugin.com//7.2.3.1//EN
TZID:Europe/Berlin
X-WR-TIMEZONE:Europe/Berlin
BEGIN:VEVENT
UID:12054@literaturseiten-muenchen.de
DTSTART;TZID=Europe/Berlin:20251204T190000
DTEND;TZID=Europe/Berlin:20251204T210000
DTSTAMP:20251103T182919Z
URL:https://www.literaturseiten-muenchen.de/veranstaltungen/amazonenbruest
 e-wie-ich-meinen-brustkrebs-bekaempfte/
SUMMARY:„Amazonenbrüste – wie ich meinen Brustkrebs bekämpfte“
DESCRIPTION:Yalla Amazonenpower!\nDr. Reyhan Şahin aka Lady Bitch Ray lies
 t aus ihrem Buch „Amazonenbrüste – wie ich meinen Brustkrebs bekämpf
 te“\n\nReyhan Şahin aka Lady Bitch Ray ist feministische Rapperin und h
 at als Frau mit Migrationsbiografie einen Doktor gemacht. 2024 erkrankte s
 ie an Brustkrebs. Als Erkrankte muss sie erneut die Erfahrung machen\, was
  es heißt\, nicht als Deutsche gelesen zu werden. Doch mit ihrer kämpfer
 ischen Art\, ihrer Widerstandskraft und ihrem Humor gelingt es ihr\, in di
 eser Situation auch den großen Support zu spüren\, die Solidarität unte
 r Frauen\, das Gemeinsame. Eine Geschichte von großer Menschlichkeit\, di
 e uns daran erinnert\, was uns verbindet\, besonders in der Not. Und die n
 ur wenige erzählen können wie Reyhan Şahin.\n\nMit: Dr. Reyhan Şahin a
 ka Lady Bitch Ray &amp\; Ilayda Akbaba (Moderation)
CATEGORIES:Buchpräsentation,Lesung
LOCATION:Neue Ziegelei - Zentrum für Soziales und Kultur\, Ruth-Drexel-Str
 . 34\, München\, 81927\, Deutschland
GEO:48.163587;11.630843
X-APPLE-STRUCTURED-LOCATION;VALUE=URI;X-ADDRESS=Ruth-Drexel-Str. 34\, Münc
 hen\, 81927\, Deutschland;X-APPLE-RADIUS=100;X-TITLE=Neue Ziegelei - Zentr
 um für Soziales und Kultur:geo:48.163587,11.630843
END:VEVENT
BEGIN:VTIMEZONE
TZID:Europe/Berlin
X-LIC-LOCATION:Europe/Berlin
BEGIN:STANDARD
DTSTART:20251026T020000
TZOFFSETFROM:+0200
TZOFFSETTO:+0100
TZNAME:CET
END:STANDARD
END:VTIMEZONE
END:VCALENDAR