BEGIN:VCALENDAR
VERSION:2.0
PRODID:-//wp-events-plugin.com//7.2.3.1//EN
TZID:Europe/Berlin
X-WR-TIMEZONE:Europe/Berlin
BEGIN:VEVENT
UID:12703@literaturseiten-muenchen.de
DTSTART;TZID=Europe/Berlin:20260426T100000
DTEND;TZID=Europe/Berlin:20260426T160000
DTSTAMP:20260309T145811Z
URL:https://www.literaturseiten-muenchen.de/veranstaltungen/amerikahaus-bo
 ok-swap-exchange-your-english-books-board-games-edition/
SUMMARY:Amerikahaus Book Swap – Exchange Your English Books (Board Games 
 Edition)
DESCRIPTION:Book lovers\, it's Book Swap time again! Mark your calendars an
 d get ready to collect your books that are only taking up shelf space: on 
 April 26\, 2026\, from 10 a.m. until 4 p.m.\, you can swap them for new re
 ading material at Amerikahaus.\nThis is how the Amerikahaus Book Swap work
 s:\n1. Pick your books you want to swap (English books only!)\n2. Exchange
  them at the Amerikahaus for Book Swap Coupons\n3. Use these coupons to sw
 ap other books\n\nRemember: sharing is caring - please only swap books in 
 good condition.\n\nBring your books with you on the day of the Book Swap o
 r exchange them in advance for Book Swap Coupons at the Amerikahaus recept
 ion (only from Monday\, April 20\, to Saturday\, April 25\, 2026 during re
 gular business hours).\n\n&nbsp\;\nBook Swap goes Board Games\nNeed a read
 ing break? At this Book Swap edition\, you’ll have the chance to play so
 me English-language board games! Meet up with old friends\, make some new 
 ones\, and enjoy a board game or two after you're done book swapping.\n\nP
 lease note: At this Book Swap\, there will also be English-language board 
 games (for ages 12 and up) accepted\, if in good condition and complete. Y
 ou will receive Book Swap coupons for your board games\, but you will not 
 be able to swap them for other board games. Amerikahaus will make good use
  of your old board games during the new Game On! Amerikahaus Board Game Ni
 ght event series.\n\n&nbsp\;\nBook Swap Conditions\n\nThe Book Swap organ
 izers want to make sure that you and the rest of the guests enjoy the Book
  Swap. In order to make this happen\, please accept the following conditio
 ns:\n\n1. You will get a certain number of coupons per book\, mostly depen
 ding on the type of book (hardcover/paperback)\, its condition and its fir
 st publication year. You can use these coupons to swap for other books on 
 the day of the Book Swap.\nIt was very challenging to come up with a syste
 m that is as fair as possible. Please be so kind and help by accepting the
  coupon allocation system. The rganizers fully understand if you think tha
 t some of your books are not being awarded enough coupons. In this case\, 
 please keep your book instead of swapping it. Bargaining would not be fair
  to other book swappers.\n\n2. Unfortunately\, it cannot be guaranteed tha
 t you will find books to your liking and/or for the exact amount of coupon
 s you have received for your old books.\nPlease accept that you might leav
 e with fewer books than you have dropped off – or\, in the worst-case sc
 enario\, with no books at all.\n\nThank you for understanding and acceptin
 g the conditions above. The organizers appreciate your support and hope yo
 u will find many great reads!\n\nFind more information on the Book Swap he
 re.\n\nOrganizer: Amerikahaus – Bavarian Center for Transatlantic Relati
 ons
CATEGORIES:Weitere Veranstaltungen
LOCATION:Amerikahaus München\, Karolinenplatz 3\, München\, Bayern\, 8033
 3\, Deutschland
GEO:48.144319;11.567752
X-APPLE-STRUCTURED-LOCATION;VALUE=URI;X-ADDRESS=Karolinenplatz 3\, München
 \, Bayern\, 80333\, Deutschland;X-APPLE-RADIUS=100;X-TITLE=Amerikahaus Mü
 nchen:geo:48.144319,11.567752
END:VEVENT
BEGIN:VTIMEZONE
TZID:Europe/Berlin
X-LIC-LOCATION:Europe/Berlin
BEGIN:DAYLIGHT
DTSTART:20260329T030000
TZOFFSETFROM:+0100
TZOFFSETTO:+0200
TZNAME:CEST
END:DAYLIGHT
END:VTIMEZONE
END:VCALENDAR