BEGIN:VCALENDAR
VERSION:2.0
PRODID:-//wp-events-plugin.com//7.2.3.1//EN
TZID:Europe/Berlin
X-WR-TIMEZONE:Europe/Berlin
BEGIN:VEVENT
UID:12931@literaturseiten-muenchen.de
DTSTART;TZID=Europe/Berlin:20260505T190000
DTEND;TZID=Europe/Berlin:20260505T203000
DTSTAMP:20260415T152911Z
URL:https://www.literaturseiten-muenchen.de/veranstaltungen/andreas-fulda-
 wenn-china-angreift-ein-szenario/
SUMMARY:Andreas Fulda: Wenn China angreift. Ein Szenario
DESCRIPTION:„Ein chinesischer Kampfjet stürzt nach einem riskanten Manö
 ver in taiwanischem Luftraum ab. Pekings Machthaber befehlen daraufhin den
  Angriff auf den Inselstaat. Die USA\, innenpolitisch zerstritten\, treten
  in den Krieg ein\, aber viel zu spät: China hat Taiwan schon annektiert\
 , unterstützt von Russland\, Iran und Nordkorea. Die globalen geopolitisc
 hen und ökonomischen Folgen sind verheerend: Die USA und China ringen um 
 die Weltherrschaft\, es droht ein dritter Weltkrieg\, die Wirtschaft in Eu
 ropa schmiert ab. Deutschland ist wegen seiner Verstrickung mit China beso
 nders hart getroffen.“\n\nDer Politologe Andreas Fulda analysiert in sei
 nem hypothetischem Zukunftsszenario die globalen Folgewirkungen eines Übe
 rfalls von China auf Taiwan und zeigt Wege der Konfliktvermeidung. Ein Wec
 kruf zur Verteidigung der freien Welt!\n\nDr. Andreas Fulda\nist Politikwi
 ssenschaftler und Experte für die Beziehungen zwischen China und der EU. 
 Er ist außerordentlicher Professor für Politik an der University of Nott
 ingham. Fulda schreibt regelmäßig für Medien wie die FAZ\, WirtschaftsW
 oche\, NZZ und Foreign Policy.\n\nAnmeldung unter:\nhttps://www.stadtakade
 mie-muenchen.de/veranstaltung/wenn-china-angreift/\n\nOnline via zoom.
CATEGORIES:Buchpräsentation,Gespräch /
 Diskussion,Online-Veranstaltung,Vortrag
END:VEVENT
BEGIN:VTIMEZONE
TZID:Europe/Berlin
X-LIC-LOCATION:Europe/Berlin
BEGIN:DAYLIGHT
DTSTART:20260329T030000
TZOFFSETFROM:+0100
TZOFFSETTO:+0200
TZNAME:CEST
END:DAYLIGHT
END:VTIMEZONE
END:VCALENDAR