BEGIN:VCALENDAR
VERSION:2.0
PRODID:-//wp-events-plugin.com//7.2.3.1//EN
TZID:Europe/Berlin
X-WR-TIMEZONE:Europe/Berlin
BEGIN:VEVENT
UID:11509@literaturseiten-muenchen.de
DTSTART;TZID=Europe/Berlin:20260210T193000
DTEND;TZID=Europe/Berlin:20260210T193000
DTSTAMP:20250729T134047Z
URL:https://www.literaturseiten-muenchen.de/veranstaltungen/anika-pages-he
 lmut-markwort-geliebter-luegner/
SUMMARY:Anika Pages &amp\; Helmut Markwort: Geliebter Lügner
DESCRIPTION:Mit Humor\, Charme und großer Spielfreude präsentieren Schaus
 pielerin Anika Pages und der Journalist Helmut Markwort die literarischen 
 Hinterlassenschaften der dreißig Jahre währenden Liebelei des beeindruck
 enden Paares\, die vor Gefühl\, Eitelkeit und feinstem Wortwitz nur so st
 rotzen.
CATEGORIES:Lesung
LOCATION:Münchner Künstlerhaus\, Lenbachplatz 8\, München\, Deutschland
GEO:48.140237;11.567712
X-APPLE-STRUCTURED-LOCATION;VALUE=URI;X-ADDRESS=Lenbachplatz 8\, München\,
  Deutschland;X-APPLE-RADIUS=100;X-TITLE=Münchner Künstlerhaus:geo:48.140
 237,11.567712
END:VEVENT
BEGIN:VTIMEZONE
TZID:Europe/Berlin
X-LIC-LOCATION:Europe/Berlin
BEGIN:STANDARD
DTSTART:20251026T020000
TZOFFSETFROM:+0200
TZOFFSETTO:+0100
TZNAME:CET
END:STANDARD
END:VTIMEZONE
END:VCALENDAR