BEGIN:VCALENDAR
VERSION:2.0
PRODID:-//wp-events-plugin.com//7.2.3.1//EN
TZID:Europe/Berlin
X-WR-TIMEZONE:Europe/Berlin
BEGIN:VEVENT
UID:12942@literaturseiten-muenchen.de
DTSTART;TZID=Europe/Berlin:20260507T190000
DTEND;TZID=Europe/Berlin:20260507T210000
DTSTAMP:20260415T160031Z
URL:https://www.literaturseiten-muenchen.de/veranstaltungen/anja-gmeinwies
 er-wir-koeniginnen/
SUMMARY:Anja Gmeinwieser „Wir Königinnen“
DESCRIPTION:Eine Frau wandert durch die piemontesischen Alpen\, ihre kreise
 nden Gedanken finden keine Ruhe.\n\nDa kreuzt die pragmatische Lkw-Fahreri
 n Anna mit einer Ladung tragender Kühe ihren Weg. Aus einem spontanen „
 Ich fahre mit“ wird eine gemeinsame Reise Richtung Türkei.\n\nZwischen 
 Staub und Hitze ringen die ungleichen Frauen um Verständigung: Ihre Gespr
 äche\, unterstützt von einem zuweilen halluzinierenden Handy-Übersetzer
 \, entdecken die Poesie im Alltäglichen. Anna jongliert Mutterrolle und B
 eruf\, während ihre schweigsame Begleiterin sich in Zweifeln verliert.\n\
 nEin Tag am See bringt kurzzeitige Harmonie\, doch der Tod eines Rindes wi
 rft Schatten voraus. An der EU-Außengrenze\, wo Kühe und Träume strande
 n\, mündet ihre Odyssee schließlich in einen Akt der Befreiung.\n\nAnja 
 Gmeinwieser studierte Politik-\, Theater-\, und Medienwissenschaft\, sowie
  Soziale Arbeit. „Wir Königinnen“ ist ihr Debüt.\n\nPreis: 12\,- Eur
 o\n\nAnmeldung bitte unter fanny@fannyliest.de\, 089 97860386 über Insta 
 oder WhatsApp
CATEGORIES:Lesung
LOCATION:Fanny liest - Bücher in der Maxvorstadt\, Gabelsbergerstr. 40\, M
 ünchen\, 80333\, Deutschland
GEO:48.149322;11.562461
X-APPLE-STRUCTURED-LOCATION;VALUE=URI;X-ADDRESS=Gabelsbergerstr. 40\, Münc
 hen\, 80333\, Deutschland;X-APPLE-RADIUS=100;X-TITLE=Fanny liest - Bücher
  in der Maxvorstadt:geo:48.149322,11.562461
END:VEVENT
BEGIN:VTIMEZONE
TZID:Europe/Berlin
X-LIC-LOCATION:Europe/Berlin
BEGIN:DAYLIGHT
DTSTART:20260329T030000
TZOFFSETFROM:+0100
TZOFFSETTO:+0200
TZNAME:CEST
END:DAYLIGHT
END:VTIMEZONE
END:VCALENDAR