BEGIN:VCALENDAR
VERSION:2.0
PRODID:-//wp-events-plugin.com//7.2.3.1//EN
TZID:Europe/Berlin
X-WR-TIMEZONE:Europe/Berlin
BEGIN:VEVENT
UID:12322@literaturseiten-muenchen.de
DTSTART;TZID=Europe/Berlin:20260203T190000
DTEND;TZID=Europe/Berlin:20260203T203000
DTSTAMP:20260107T150909Z
URL:https://www.literaturseiten-muenchen.de/veranstaltungen/annette-kolb-z
 wischen-uns-briefe-der-freundschaft-ein-abend-mit-cornelia-michel/
SUMMARY:»Annette Kolb ›Zwischen uns. Briefe der Freundschaft‹« Ein Ab
 end mit Cornelia Michél
DESCRIPTION:Mit Isabelle Stauffer\, Waldemar Fromm &amp\; Michael Pilz\n\nF
 rankophile Münchnerin\, selbstbestimmte Frau und femme de lettres: Annett
 e Kolb (1870–1967) war überzeugte Europäerin\, Pazifistin und Gegnerin
  des Nationalsozialismus. In ihrer Korrespondenz zeigt sie sich als modern
 e Networkerin: scharfsinnig und zugewandt\, hilfsbereit und humorvoll. Der
  neue Briefband\, herausgegeben von Annette Kolbs Großnichte Cornelia Mic
 hél (Allitera Verlag) vereint mehr als 180 Briefe von Annette Kolb und vi
 elen ihrer Freunde\, darunter erstmals veröffentlichte Briefe von Thomas 
 Mann. Wir hören eine Auswahl der Briefe\, kommentiert von Cornelia Miché
 l im Gespräch mit Kolb-Forscher*innen und Mitbegründern der Annette Kolb
 -Gesellschaft\, dazu hören wir ausgewählte Briefe.\n\nTickets erhältlic
 h unter ReserviX\nEINTRITT: EURO 16.- / 10.-\n\nVeranstalter: Annette Kolb
 -Gesellschaft // in Kooperation mit der Stiftung Literaturhaus // geförde
 rt durch das Kulturreferat der Landeshauptstadt München
CATEGORIES:Buchpräsentation,Gespräch / Diskussion,Lesung
LOCATION:Literaturhaus München\, Salvatorplatz 1\, München\, Bayern\, 803
 33\, Deutschland
GEO:48.142051;11.574991
X-APPLE-STRUCTURED-LOCATION;VALUE=URI;X-ADDRESS=Salvatorplatz 1\, München\
 , Bayern\, 80333\, Deutschland;X-APPLE-RADIUS=100;X-TITLE=Literaturhaus M
 ünchen:geo:48.142051,11.574991
END:VEVENT
BEGIN:VTIMEZONE
TZID:Europe/Berlin
X-LIC-LOCATION:Europe/Berlin
BEGIN:STANDARD
DTSTART:20251026T020000
TZOFFSETFROM:+0200
TZOFFSETTO:+0100
TZNAME:CET
END:STANDARD
END:VTIMEZONE
END:VCALENDAR