BEGIN:VCALENDAR
VERSION:2.0
PRODID:-//wp-events-plugin.com//7.2.3.1//EN
TZID:Europe/Berlin
X-WR-TIMEZONE:Europe/Berlin
BEGIN:VEVENT
UID:11506@literaturseiten-muenchen.de
DTSTART;TZID=Europe/Berlin:20251214T160000
DTEND;TZID=Europe/Berlin:20251214T170000
DTSTAMP:20250729T133222Z
URL:https://www.literaturseiten-muenchen.de/veranstaltungen/astrid-lindgre
 n-weihnachten-mit-pippi-michel-und-den-kindern-von-bullerbue/
SUMMARY:Astrid Lindgren: Weihnachten mit Pippi\, Michel und den Kindern von
  Bullerbü
DESCRIPTION:Genießen Sie einen zauberhaften adventlichen Nachmittag für d
 ie ganze Familie mit Lebkuchen und Punsch zu den Akkordeonklängen der cha
 rmanten Maria Reiter.
CATEGORIES:Lesung
LOCATION:Münchner Künstlerhaus\, Lenbachplatz 8\, München\, Deutschland
GEO:48.140237;11.567712
X-APPLE-STRUCTURED-LOCATION;VALUE=URI;X-ADDRESS=Lenbachplatz 8\, München\,
  Deutschland;X-APPLE-RADIUS=100;X-TITLE=Münchner Künstlerhaus:geo:48.140
 237,11.567712
END:VEVENT
BEGIN:VTIMEZONE
TZID:Europe/Berlin
X-LIC-LOCATION:Europe/Berlin
BEGIN:STANDARD
DTSTART:20251026T020000
TZOFFSETFROM:+0200
TZOFFSETTO:+0100
TZNAME:CET
END:STANDARD
END:VTIMEZONE
END:VCALENDAR