BEGIN:VCALENDAR
VERSION:2.0
PRODID:-//wp-events-plugin.com//7.2.3.1//EN
TZID:Europe/Berlin
X-WR-TIMEZONE:Europe/Berlin
BEGIN:VEVENT
UID:12330@literaturseiten-muenchen.de
DTSTART;TZID=Europe/Berlin:20260221T180000
DTEND;TZID=Europe/Berlin:20260221T193000
DTSTAMP:20260108T114417Z
URL:https://www.literaturseiten-muenchen.de/veranstaltungen/aufrecht-ein-a
 bend-mit-lea-ypi/
SUMMARY:»Aufrecht« Ein Abend mit Lea Ypi
DESCRIPTION:Lesung: Wiebke Puls (Münchner Kammerspiele)\n\nIn ihrem neuen 
 Buch begibt sich die albanisch-britische Philosophin und Star-Autorin Lea 
 Ypi erneut auf die Spuren ihrer Familie. Auslöser ist ein ihr unbekanntes
  Foto der Großeltern aus dem Jahr 1941\, das sie zufällig im Internet en
 tdeckt. In einer mitreißenden Recherche folgt sie der Großmutter in die 
 untergegangene Welt der osmanischen Aristokratie\, an die Wiege der neuen 
 Nationalstaaten auf dem Balkan und natürlich nach Albanien\, erst unter f
 aschistischer Besatzung\, dann unter kommunistischer Herrschaft. Fesselnd\
 , empathisch und in ihrem unnachahmlichen Ton stellt sich die Autorin die 
 Frage\, was sie wirklich über ihre Vorfahren weiß. Eine Familiensaga und
  tiefgründige Reflexion zugleich (Suhrkamp // dt. von Eva Bonné) – das
  kluge und bewegende\nPrequel zu ihrem internationalen Bestseller »Frei«
 .\n\nTickets erhältlich unter ReserviX\nEINTRITT: EURO 20.- / 10.-\nSTREA
 M-TICKETS: EURO 8.-\n\nGESPRÄCH: ENGLISCH // LESUNG: DEUTSCH
CATEGORIES:Buchpräsentation,Gespräch / Diskussion,Lesung
LOCATION:Literaturhaus München\, Salvatorplatz 1\, München\, Bayern\, 803
 33\, Deutschland
GEO:48.142051;11.574991
X-APPLE-STRUCTURED-LOCATION;VALUE=URI;X-ADDRESS=Salvatorplatz 1\, München\
 , Bayern\, 80333\, Deutschland;X-APPLE-RADIUS=100;X-TITLE=Literaturhaus M
 ünchen:geo:48.142051,11.574991
END:VEVENT
BEGIN:VTIMEZONE
TZID:Europe/Berlin
X-LIC-LOCATION:Europe/Berlin
BEGIN:STANDARD
DTSTART:20251026T020000
TZOFFSETFROM:+0200
TZOFFSETTO:+0100
TZNAME:CET
END:STANDARD
END:VTIMEZONE
END:VCALENDAR