BEGIN:VCALENDAR
VERSION:2.0
PRODID:-//wp-events-plugin.com//7.2.3.1//EN
TZID:Europe/Berlin
X-WR-TIMEZONE:Europe/Berlin
BEGIN:VEVENT
UID:11891@literaturseiten-muenchen.de
DTSTART;TZID=Europe/Berlin:20251117T190000
DTEND;TZID=Europe/Berlin:20251117T203000
DTSTAMP:20251007T150848Z
URL:https://www.literaturseiten-muenchen.de/veranstaltungen/ausser-maenner
 -haben-wir-nichts-zu-verlieren-50-jahre-frauenbuchladen-lillemors/
SUMMARY:»Außer Männer haben wir nichts zu verlieren« 50 Jahre Frauenbuc
 hladen »Lillemor’s«
DESCRIPTION:Mit Christine Haug\, Paula Irena Villa-Braslavsky\, Doris Herma
 nns\, Sabine Holm\n\nAm 3. November 1975 wurde mit »Lillemor's« die erst
 e Frauenbuchhandlung in Westdeutschland eröffnet - ein bahnbrechendes neu
 es Konzept. München selbst bot den idealen Nährboden für die dynamische
  Entwicklung der Frauenbewegung. Hier entstanden Netzwerke\, die bis heute
  nachwirken. Im Jahr 2023 wurde »Lillemor's« an die neue Generation übe
 rgeben: Der queerfeministische Buchladen »glitch« trägt nun die ursprü
 ngliche Idee in eine neue Zeit. Wir feiern 50 Jahre Frauenbuchladen »Lill
 emor's« zusammen mit der Münchner Soziologin Paula Irena Villa-Braslavsk
 y\, der Publizistin Doris Hermanns (Berlin)\, mit der (gemeinsam mit Ute G
 eissler) Gründerin von »Lillemor's« Sabine Holm und Studierenden des »
 Zentrum für Buchwissenschaft«. Und zur Einstimmung sehen wir den titelge
 benden Film »Außer Männer hatten wir nichts zu verlieren« (Regie: Leil
 a Keita &amp\; Hanna Hocker / 2023 / 30 Min.).\n\nVeranstalter: LMU\, Zent
 rum für Buchwissenschaft &amp\; Stiftung Literaturhaus\nEINTRITT: FREI (A
 nmeldung unter info@literaturhaus-muenchen.de\n
CATEGORIES:Gespräch / Diskussion
LOCATION:Literaturhaus München Bibliothek\, Salvatorplatz 1\, München\, 8
 0333\, Deutschland
GEO:48.142051;11.574991
X-APPLE-STRUCTURED-LOCATION;VALUE=URI;X-ADDRESS=Salvatorplatz 1\, München\
 , 80333\, Deutschland;X-APPLE-RADIUS=100;X-TITLE=Literaturhaus München Bi
 bliothek:geo:48.142051,11.574991
END:VEVENT
BEGIN:VTIMEZONE
TZID:Europe/Berlin
X-LIC-LOCATION:Europe/Berlin
BEGIN:STANDARD
DTSTART:20251026T020000
TZOFFSETFROM:+0200
TZOFFSETTO:+0100
TZNAME:CET
END:STANDARD
END:VTIMEZONE
END:VCALENDAR