BEGIN:VCALENDAR
VERSION:2.0
PRODID:-//wp-events-plugin.com//7.2.3.1//EN
TZID:Europe/Berlin
X-WR-TIMEZONE:Europe/Berlin
BEGIN:VEVENT
UID:12227@literaturseiten-muenchen.de
DTSTART;TZID=Europe/Berlin:20260115T190000
DTEND;TZID=Europe/Berlin:20260115T200000
DTSTAMP:20251210T232217Z
URL:https://www.literaturseiten-muenchen.de/veranstaltungen/ausstellungser
 oeffnung-farbe-im-dialog-drei-positionen/
SUMMARY:Ausstellungseröffnung Farbe im Dialog - Drei Positionen
DESCRIPTION:Malerei von Gabriela Kurschat\, Marie-Christine von Liebe und C
 orina Oeder.\nIn ihren Werken richten die drei Künstlerinnen ihren Fokus 
 auf die Farbe selbst\, ihre Leuchtkraft\, Tiefe und emotionale Wirkung.\nI
 m Zentrum steht der Dialog der Farben\, der Dialog mit den Werken und der 
 Werke untereinander. Zu sehen sind Arbeiten in Öl\, Acryl sowie auf Papie
 r in der Seidlvilla als Ort der Begegnung.\nFührungen durch die Ausstellu
 ng am 08.02.2026 um 14.30 Uhr. Die Vernissage findet am Donnerstag\, den 1
 5.01.2026 ab 19 Uhr statt.
CATEGORIES:Ausstellungen
LOCATION:Seidlvilla\, Nikolaiplatz 1b\, München\, 80802\, Deutschland
GEO:48.15867;11.587729999999965
X-APPLE-STRUCTURED-LOCATION;VALUE=URI;X-ADDRESS=Nikolaiplatz 1b\, München\
 , 80802\, Deutschland;X-APPLE-RADIUS=100;X-TITLE=Seidlvilla:geo:48.15867,1
 1.587729999999965
END:VEVENT
BEGIN:VTIMEZONE
TZID:Europe/Berlin
X-LIC-LOCATION:Europe/Berlin
BEGIN:STANDARD
DTSTART:20251026T020000
TZOFFSETFROM:+0200
TZOFFSETTO:+0100
TZNAME:CET
END:STANDARD
END:VTIMEZONE
END:VCALENDAR