BEGIN:VCALENDAR
VERSION:2.0
PRODID:-//wp-events-plugin.com//7.2.3.1//EN
TZID:Europe/Berlin
X-WR-TIMEZONE:Europe/Berlin
BEGIN:VEVENT
UID:12170@literaturseiten-muenchen.de
DTSTART;TZID=Europe/Berlin:20260207T100000
DTEND;TZID=Europe/Berlin:20260208T170000
DTSTAMP:20251119T091112Z
URL:https://www.literaturseiten-muenchen.de/veranstaltungen/autobiografisc
 hes-schreiben-3/
SUMMARY:Autobiografisches Schreiben
DESCRIPTION:Wie beginne ich überhaupt mit dem Schreiben? Und wie kann ich 
 mein Innenleben nutzen\, um daraus Geschichten zu entwickeln? Zahlreiche T
 echniken wie intuitives\, sinnliches oder achtsames Schreiben helfen Ihnen
 \, einen eigenen Schreibzugang zu finden und den Reichtum Ihrer eigenen We
 lt zu Papier zu bringen. So verlieren Sie die Scheu vorm vermeintlichen Sc
 heitern\, kommen in den Schreibfluss und begegnen anderen Schreibgesinnten
  mit Lust zum produktiven Austausch. Ein Wochenende voller Überraschungen
 \, die Sie sich selbst schreibend bescheren.\n\nKursnummer: V247260\n\nDoz
 entin: Tatijana Milovic\n\nGebühr: € 99\,-\n\nWeitere Informationen fin
 den Sie unter: https://www.mvhs.de/kurse/kultur-kunst-kreativitaet/kreati
 ves-schreiben/texte-aller-art/autobiografisches-schreiben-460-C-V247260
CATEGORIES:Schreibwerkstatt
LOCATION:MVHS Sendling\, Albert-Roßhaupter-Str. 8\, München\, Bayern\, De
 utschland
GEO:48.117097;11.537813
X-APPLE-STRUCTURED-LOCATION;VALUE=URI;X-ADDRESS=Albert-Roßhaupter-Str. 8\,
  München\, Bayern\, Deutschland;X-APPLE-RADIUS=100;X-TITLE=MVHS Sendling:
 geo:48.117097,11.537813
END:VEVENT
BEGIN:VTIMEZONE
TZID:Europe/Berlin
X-LIC-LOCATION:Europe/Berlin
BEGIN:STANDARD
DTSTART:20251026T020000
TZOFFSETFROM:+0200
TZOFFSETTO:+0100
TZNAME:CET
END:STANDARD
END:VTIMEZONE
END:VCALENDAR