BEGIN:VCALENDAR
VERSION:2.0
PRODID:-//wp-events-plugin.com//7.2.3.1//EN
TZID:Europe/Berlin
X-WR-TIMEZONE:Europe/Berlin
BEGIN:VEVENT
UID:12414@literaturseiten-muenchen.de
DTSTART;TZID=Europe/Berlin:20260214T193000
DTEND;TZID=Europe/Berlin:20260214T210000
DTSTAMP:20260122T113946Z
URL:https://www.literaturseiten-muenchen.de/veranstaltungen/autor-zwischen
 -macht-und-grauen-eine-lesung-von-herrn-andrea-frediani/
SUMMARY:Autor zwischen Macht und Grauen – eine Lesung von Herrn Andrea Fr
 ediani
DESCRIPTION:Macht und Ohnmacht\, Leben und Tod\, Hoffnung und Grauen – ka
 um ein Autor behandelt die Themen der Macht und ihrer Abgründe so durchdr
 ingend wie der italienische Historiker und Erfolgsautor Andrea Frediani. D
 ie Realität der Ereignisse ist ihm dramatische Grundlage für die Bühne 
 des Narrativen.\nEindrucksvoll zeichnet Autor Frediani in der Caesar-Trilo
 gie („Dictator“\, ital. Originaltitel\; „Caesars Schatten – Der Fr
 eund“\, dt. Übersetzung) den rücksichtlosen Aufstieg des römischen Pr
 okonsuls Gaius Julius Caesar nach. An dessen Seite – sein Jugendfreund u
 nd kongenialer Weggefährte\, Legat Titus Labienus. Caesars strategische u
 nd politische Schachzüge sind eine Herausforderung für alle seine Weggef
 ährten\, am meisten aber für Labienus\, der von Caesars Feinden umworben
  wird.\nNoch konsequenter beschreibt Frediani die Abgründe von Macht und 
 Ohnmacht in seinem Holocaust-Drama „Endstation Hoffnung – Il bibliotec
 ario di Auschwitz“. In diesem steht das pure Überleben in einer Realit
 ät im Mittelpunkt\, die nur als von Menschen gemachte Hölle bezeichnet w
 erden kann. Selten wurde die Sicht eines Häftlings in den Sonderkommandos
  in Auschwitz so rücksichtslos dargestellt wie in dem umstrittenen Werk\,
  über das „Kunst und Literatur“ schreibt\, es sei „verstörend und 
 faszinierend – und deshalb unbedingt lesenswert“.\nAndrea Frediani ver
 öffentlichte über 60 Bücher mit den Schwerpunkten „Römisches Reich
 “ und „Drittes Reich“\, darunter sowohl Romane als auch geschichtlic
 he Sachbücher. Heute gehört er mit über 1\,6 Millionen verkauften Exemp
 laren zu den erfolgreichsten Autoren Italiens.\nMit: Andrea Frediani\, Aut
 or\; Sandra Hubmann\, Übersetzerin\; Franz Westner\, Moderator.\n\nEintri
 tt: 10/12 Euro\nKarten unter lesung@salonliteraturverlag.de
CATEGORIES:Buchpräsentation,Lesung
LOCATION:Seidlvilla\, Nikolaiplatz 1b\, München\, 80802\, Deutschland
GEO:48.15867;11.587729999999965
X-APPLE-STRUCTURED-LOCATION;VALUE=URI;X-ADDRESS=Nikolaiplatz 1b\, München\
 , 80802\, Deutschland;X-APPLE-RADIUS=100;X-TITLE=Seidlvilla:geo:48.15867,1
 1.587729999999965
END:VEVENT
BEGIN:VTIMEZONE
TZID:Europe/Berlin
X-LIC-LOCATION:Europe/Berlin
BEGIN:STANDARD
DTSTART:20251026T020000
TZOFFSETFROM:+0200
TZOFFSETTO:+0100
TZNAME:CET
END:STANDARD
END:VTIMEZONE
END:VCALENDAR