BEGIN:VCALENDAR
VERSION:2.0
PRODID:-//wp-events-plugin.com//7.2.3.1//EN
TZID:Europe/Berlin
X-WR-TIMEZONE:Europe/Berlin
BEGIN:VEVENT
UID:12951@literaturseiten-muenchen.de
DTSTART;TZID=Europe/Berlin:20260516T200000
DTEND;TZID=Europe/Berlin:20260516T230000
DTSTAMP:20260415T161311Z
URL:https://www.literaturseiten-muenchen.de/veranstaltungen/benjamin-von-s
 tuckrad-barre-jan-delay-vorgluehen-2026/
SUMMARY:Benjamin von Stuckrad-Barre & Jan Delay „Vorglühen 2026“
DESCRIPTION:Im kommenden Mai feiern große Teile des Landes Udo Lindenbergs
  80. Geburtstag – wir haben schon mal damit angefangen:\n\nNach zwei umg
 ehend ausverkauften Shows in Hamburg können wir nun noch vier weitere Ter
 mine ankündigen.\n\nBenjamin von Stuckrad-Barre und Jan Delay werden an d
 iesen vier kommenden »VORGLÜHEN«-Abenden fortfahren damit\, uns alle ei
 nzustimmen auf die umfassenden Festivitäten zur Ehrung des besten und wic
 htigsten deutschsprachigen Songpoeten.\n\nVorglühen also\, ein Abend mit 
 Liedern und Texten von Udo – und natürlich mit Texten über ihn.\n\nStu
 ckrad-Barre und Delay bereiteten sich\, so sagten sie es bei der Premiere 
 in Hamburg\, im Grunde seit ihrer frühen\n\nKindheit auf diese Shows vor:
 \n\n»Wir haben durch Udos Lieder und vor allem durch seine Texte sprechen
 \, schreiben und singen gelernt. Und alles über die Liebe\, die Nächte u
 nd das Feiern. Kurzum: das Leben.«\n\nTickets: 53-78\,50€\, MünchenTic
 ket
CATEGORIES:Gespräch / Diskussion,Lesung,Literatur &amp; Musik
LOCATION:Isarphilharmonie Gasteig HP8\, Hans-Preißinger-Straße 8\, Münch
 en\, 81379\, Deutschland
GEO:48.111734;11.553315
X-APPLE-STRUCTURED-LOCATION;VALUE=URI;X-ADDRESS=Hans-Preißinger-Straße 8\
 , München\, 81379\, Deutschland;X-APPLE-RADIUS=100;X-TITLE=Isarphilharmon
 ie Gasteig HP8:geo:48.111734,11.553315
END:VEVENT
BEGIN:VTIMEZONE
TZID:Europe/Berlin
X-LIC-LOCATION:Europe/Berlin
BEGIN:DAYLIGHT
DTSTART:20260329T030000
TZOFFSETFROM:+0100
TZOFFSETTO:+0200
TZNAME:CEST
END:DAYLIGHT
END:VTIMEZONE
END:VCALENDAR