BEGIN:VCALENDAR
VERSION:2.0
PRODID:-//wp-events-plugin.com//7.2.3.1//EN
TZID:Europe/Berlin
X-WR-TIMEZONE:Europe/Berlin
BEGIN:VEVENT
UID:11974@literaturseiten-muenchen.de
DTSTART;TZID=Europe/Berlin:20251102T143000
DTEND;TZID=Europe/Berlin:20251102T143000
DTSTAMP:20251017T081001Z
URL:https://www.literaturseiten-muenchen.de/veranstaltungen/berggeschichte
 n-mit-den-ohren-auf-die-berge-2/
SUMMARY:Berggeschichten – Mit den Ohren auf die Berge
DESCRIPTION:Lesungen für Erwachsene\n\nIn der Bibliothek kannst Du selbst 
 lesen oder Dir an jedem ersten Sonntag im Monat vorlesen lassen. Für Erwa
 chsene gibt es amüsante Anekdoten aus der Geschichte des Alpinismus.\n\nS
 onntag\, 2. November und 7. Dezember 2025\njeweils 14.30 Uhr (Erw) und 15 
 Uhr (Kinder)\n\nEintritt frei
CATEGORIES:Lesung
LOCATION:Alpines Museum\, Praterinsel 5\, München\, Bayern\, 80538\, Deuts
 chland
GEO:48.135262;11.589077
X-APPLE-STRUCTURED-LOCATION;VALUE=URI;X-ADDRESS=Praterinsel 5\, München\, 
 Bayern\, 80538\, Deutschland;X-APPLE-RADIUS=100;X-TITLE=Alpines Museum:geo
 :48.135262,11.589077
END:VEVENT
BEGIN:VTIMEZONE
TZID:Europe/Berlin
X-LIC-LOCATION:Europe/Berlin
BEGIN:STANDARD
DTSTART:20251026T020000
TZOFFSETFROM:+0200
TZOFFSETTO:+0100
TZNAME:CET
END:STANDARD
END:VTIMEZONE
END:VCALENDAR