BEGIN:VCALENDAR
VERSION:2.0
PRODID:-//wp-events-plugin.com//7.2.3.1//EN
TZID:Europe/Berlin
X-WR-TIMEZONE:Europe/Berlin
BEGIN:VEVENT
UID:11486@literaturseiten-muenchen.de
DTSTART;TZID=Europe/Berlin:20251017T190000
DTEND;TZID=Europe/Berlin:20251017T190000
DTSTAMP:20250728T122257Z
URL:https://www.literaturseiten-muenchen.de/veranstaltungen/bilder-worte-k
 laenge/
SUMMARY:Bilder Worte Klänge
DESCRIPTION:Erlebnis-Abend mit Vernissage:\nEintritt frei\nVeranstaltungsor
 t: Saal im Erdgeschoss\nBilder\, Texte und Musik verschmelzen zum Dreiklan
 g-Erlebnis. Sie entstehen nicht nur aus sich heraus\, sondern auch durch d
 en Betrachter.\n\nIn der Fotoreihe „Museums-Menschen“ von Ulrich Fisch
 er entsteht ein Beziehungsfeld zwischen Besucher\, Objekten und Räumen. A
 n die Stelle musealer Distanz tritt Nahbarkeit\, Dialog und Beziehung. Das
  Objekt und der Raum rücken in die Gegenwart des Betrachtens.\n\nDie Text
 e von Bärbel Wardetzki betrachten Beziehungen aus einer psychologischen P
 erspektive. Begegnen wir uns aus egozentrisch-narzisstischen Motiven herau
 s oder mit einem liebenden Blick für den anderen? Ovid wird uns dabei den
  Weg weisen.\n\nMaria Anastasia Hörner begleitet die Fotografien von Ulri
 ch Fischer und die Texte von Bärbel Wardetzki mit eigenen Kompositionen a
 m Klavier\, der Geige und einer Loopstation. Als Pionierin einer neuen Kla
 ngsprache legt sie Stimmen übereinander\, verbindet ihre klassische Ausbi
 ldung mit moderner Technik und erzählt mit jedem Ton eine Geschichte.\n\n
 Informationen zur Anmeldung\n\n\nOhne Anmeldung\, bitte beachten Sie\, das
 s die Plätze im Saal begrenzt sind.\n\n\n
CATEGORIES:Ausstellungen,Literatur &amp; Musik
LOCATION:Stadtbibliothek Bogenhausen\, Rosenkavalierplatz 16\, München\, B
 ayern\, 81925\, Deutschland
GEO:48.1522515;11.618572599999993
X-APPLE-STRUCTURED-LOCATION;VALUE=URI;X-ADDRESS=Rosenkavalierplatz 16\, Mü
 nchen\, Bayern\, 81925\, Deutschland;X-APPLE-RADIUS=100;X-TITLE=Stadtbibli
 othek Bogenhausen:geo:48.1522515,11.618572599999993
END:VEVENT
BEGIN:VTIMEZONE
TZID:Europe/Berlin
X-LIC-LOCATION:Europe/Berlin
BEGIN:DAYLIGHT
DTSTART:20250330T030000
TZOFFSETFROM:+0100
TZOFFSETTO:+0200
TZNAME:CEST
END:DAYLIGHT
END:VTIMEZONE
END:VCALENDAR