BEGIN:VCALENDAR
VERSION:2.0
PRODID:-//wp-events-plugin.com//7.2.3.1//EN
TZID:Europe/Berlin
X-WR-TIMEZONE:Europe/Berlin
BEGIN:VEVENT
UID:12035@literaturseiten-muenchen.de
DTSTART;TZID=Europe/Berlin:20251201T160000
DTEND;TZID=Europe/Berlin:20251201T160000
DTSTAMP:20251029T095804Z
URL:https://www.literaturseiten-muenchen.de/veranstaltungen/bilderbuchkino
 -mit-drag-queen-vicky-voyage-6/
SUMMARY:Bilderbuchkino mit Drag-Queen Vicky Voyage
DESCRIPTION:Eintritt frei\nHosen für Jungs und Röcke für Mädchen? Zwei 
 Mamas oder zwei Papas? – Wer sagt eigentlich\, was normal ist und was ni
 cht? Drag-Queen Vicky Voyage zeigt bei diesem besonderen Bilderbuchkino\, 
 dass das Anderssein zum Leben gehört und dass alle so leben dürfen\, wie
  sie es sich wünschen.\n\nVicky Voyage liest aus drei der folgenden Büch
 ern vor:\n\n 	Kerstin Brichzin / Igor Kuprin: Der Junge im Rock\n 	Marlon 
 Bundo / Jill Twiss: Ein Tag im Leben von Marlon Bundo\n 	Ludovic Flamant /
  Jean-Luc Englebert: Puppen sind doch nichts für Jungen\n 	Barbara Mülle
 r / Ann-Kathrin Nikolov: Flora und der Honigkuss\n 	Robert Munsch: Die Pri
 nzessin in der Tüte\n 	Werner Holzwarth / Wolf Erlbruch: Vom kleinen Maul
 wurf\, der wissen wollte\, wer ihm auf den Kopf gemacht hat\n 	Tyler Feder
 : Körper sind toll\n 	Scott Stuart: Echte Jungs wie du und ich\n 	Scott S
 tuart: Mein Schatten ist pink\n\nFür Familien mit Kindern ab 5 Jahren.\n\
 nFragen und Antworten zu dieser Veranstaltung finden Sie hier.\n\nInformat
 ionen zur Anmeldung\n\n\nAnmeldung persönlich vor Ort\, telefonisch unter
  089 233 772426 oder per E-Mail an stb.moosach.kult(at)muenchen.de\n\nEinl
 assvorbehalt: Personen\, die rechtsextremen Parteien oder Organisationen a
 ngehören\, der rechtsextremen Szene zuzuordnen sind oder bereits in der V
 ergangenheit durch rassistische\, nationalistische\, antisemitische\, sexi
 stische\, LGBTIQ*-feindliche oder sonstige menschenverachtende Äußerunge
 n in Erscheinung getreten sind\, sind von der Veranstaltung ausgeschlossen
 .\n\n\n\n\nKooperationspartner\n\n\nFach- und Beratungsstelle Regenbogenfa
 milien\n\n\n
CATEGORIES:Lesung
LOCATION:Münchner Stadtbibliothek Moosach\, Hanauer Straße 61a\, München
 \, 80992\, Deutschland
GEO:48.18153119999999;11.52878480000004
X-APPLE-STRUCTURED-LOCATION;VALUE=URI;X-ADDRESS=Hanauer Straße 61a\, Münc
 hen\, 80992\, Deutschland;X-APPLE-RADIUS=100;X-TITLE=Münchner Stadtbiblio
 thek Moosach:geo:48.18153119999999,11.52878480000004
END:VEVENT
BEGIN:VTIMEZONE
TZID:Europe/Berlin
X-LIC-LOCATION:Europe/Berlin
BEGIN:STANDARD
DTSTART:20251026T020000
TZOFFSETFROM:+0200
TZOFFSETTO:+0100
TZNAME:CET
END:STANDARD
END:VTIMEZONE
END:VCALENDAR