BEGIN:VCALENDAR
VERSION:2.0
PRODID:-//wp-events-plugin.com//7.2.3.1//EN
TZID:Europe/Berlin
X-WR-TIMEZONE:Europe/Berlin
BEGIN:VEVENT
UID:11874@literaturseiten-muenchen.de
DTSTART;TZID=Europe/Berlin:20251113T123000
DTEND;TZID=Europe/Berlin:20251113T143000
DTSTAMP:20251006T085902Z
URL:https://www.literaturseiten-muenchen.de/veranstaltungen/bitte-anschnal
 len-und-sitzenbleiben/
SUMMARY:Bitte anschnallen und sitzenbleiben
DESCRIPTION:Lunchtime Readings im Lyrik Kabinett\n(in deutscher und englisc
 her Sprache)\nJeweils Donnerstag\, 12.30–13.30 Uhr 13. November und 11. 
 Dezember\n\nVeranstaltungsort: Lyrik Kabinett Eintritt frei\n\nDie Koopera
 tion mit dem Schreibzentrum der LMU München gedeiht weiter – mit frisch
 en und jungen Texten: Zu jedem Termin werden 1–2 studentische Auszüge p
 räsentiert und diskutiert: Gedichte und Spoken Word\, Short Storys\, Roma
 nanfänge\, Theaterdialoge\, Essays\, Tweet-Sammlungen oder Experimentelle
 s\, Deutsch oder Englisch\, erste Schreibversuche oder schon Veröffentlic
 htes … Offen für alle Interessierten\, der Eintritt ist frei\, es gibt 
 Kaffee und Kuchen.\n\nDu studierst und schreibst selbst?\nWer Lust hat\, d
 ieses Semester eigene kreative Texte zu präsentieren\, Deutsch oder Engli
 sch\, melde sich bitte zehn Tage vor dem Termin mit einem Absatz zu den Sc
 hreibinteressen sowie den Texten\, die Ihr vortragen wollt\, bei: schreibz
 entrum@lrz.uni-muenchen.de. Gebt bitte auch euren bevorzugten Termin und d
 ie voraussichtliche Leselänge an (höchstens 20 Minuten). Ihr bekommt bis
  fünf Tage vor dem Termin Bescheid\, ob und für welchen Tag Euer Text au
 sgewählt wurde.
CATEGORIES:Gespräch / Diskussion,Lesekreis,Lesung
LOCATION:Stiftung Lyrik Kabinett\, Amalienstr. 83a\, München\, Bayern\, 80
 799\, München\, Deutschland
GEO:48.151330;11.578877
X-APPLE-STRUCTURED-LOCATION;VALUE=URI;X-ADDRESS=Amalienstr. 83a\, München\
 , Bayern\, 80799\, München\, Deutschland;X-APPLE-RADIUS=100;X-TITLE=Stift
 ung Lyrik Kabinett:geo:48.151330,11.578877
END:VEVENT
BEGIN:VTIMEZONE
TZID:Europe/Berlin
X-LIC-LOCATION:Europe/Berlin
BEGIN:STANDARD
DTSTART:20251026T020000
TZOFFSETFROM:+0200
TZOFFSETTO:+0100
TZNAME:CET
END:STANDARD
END:VTIMEZONE
END:VCALENDAR