BEGIN:VCALENDAR
VERSION:2.0
PRODID:-//wp-events-plugin.com//7.2.3.1//EN
TZID:Europe/Berlin
X-WR-TIMEZONE:Europe/Berlin
BEGIN:VEVENT
UID:12149@literaturseiten-muenchen.de
DTSTART;TZID=Europe/Berlin:20251201T193000
DTEND;TZID=Europe/Berlin:20251201T193000
DTSTAMP:20251116T212725Z
URL:https://www.literaturseiten-muenchen.de/veranstaltungen/bless-the-mic-
 rap-meets-poetry-slam-5/
SUMMARY:Bless the Mic – Rap meets Poetry Slam
DESCRIPTION:Bless the Mic zum großen Jahresfinale. Wir rocken zum letzten 
 Mal in 2025 die „Glocke“\, wie üblich am ersten Montag des Monats! Mu
 sikalisch mit diesmal am Start: Rapper Lenzelot! Auch die Winkekatze ist w
 ieder mit dabei und wartet darauf\, dass RapPoet*innen aus München und Um
 gebung\, die nicht älter sind als 25 Jahre\, diese Trophäe im Rahmen von
  Bless the Mic beim nächsten Slam in der Sonderwertung als Sieger*innen e
 ntgegennehmen.\n\nAn den Turntables auch diesmal dann wieder DJ Naim.\n\nE
 inlass ab 19:00 Uhr\, Beginn um 19:30 Uhr.\n\nEintrittspreis 5 Euro pro Pe
 rson.
CATEGORIES:PoetrySlam
LOCATION:Glockenbachwerkstatt\, Blumenstr. 7\, München\, Deutschland
GEO:48.133542;11.574007
X-APPLE-STRUCTURED-LOCATION;VALUE=URI;X-ADDRESS=Blumenstr. 7\, München\, D
 eutschland;X-APPLE-RADIUS=100;X-TITLE=Glockenbachwerkstatt:geo:48.133542,1
 1.574007
END:VEVENT
BEGIN:VTIMEZONE
TZID:Europe/Berlin
X-LIC-LOCATION:Europe/Berlin
BEGIN:STANDARD
DTSTART:20251026T020000
TZOFFSETFROM:+0200
TZOFFSETTO:+0100
TZNAME:CET
END:STANDARD
END:VTIMEZONE
END:VCALENDAR