BEGIN:VCALENDAR
VERSION:2.0
PRODID:-//wp-events-plugin.com//7.2.3.1//EN
TZID:Europe/Berlin
X-WR-TIMEZONE:Europe/Berlin
BEGIN:VEVENT
UID:11525@literaturseiten-muenchen.de
DTSTART;TZID=Europe/Berlin:20250916T190000
DTEND;TZID=Europe/Berlin:20250916T213000
DTSTAMP:20250801T084912Z
URL:https://www.literaturseiten-muenchen.de/veranstaltungen/book-talk-sara
 -paretsky-wunder-punkt/
SUMMARY:Book Talk - Sara Paretsky: "Wunder Punkt"
DESCRIPTION:\nÜber die Veranstaltung\n\n\n\n\n\nZum Anlass des 25-jährige
 n Bestehens von glatteis – die Krimibuchhandlung und zum Auftakt des umf
 angreichen Programms des Krimifestivals München im Herbst\, laden wir die
  amerikanische Autorin Sara Paretsky ein\, ihr neuestes Buch vorzustellen.
 \n\nIn Sara Paretskys neuestem Kriminalroman Wunder Punkt übernimmt die
  Privatdetektivin Victoria Iphigenia Warshawski einen komplexen Fall.\n\nF
 ünf Studentinnen fahren zum Auswärtsspiel nach Kansas. Ihr Team siegt\, 
 es wird gefeiert. Am nächsten Morgen sind es nur noch vier. Eine College 
 Studentin ist spurlos verschwunden.\n\nWarshawski wird hinzugezogen\, um d
 as Rätsel zu lösen - doch was zunächst wie ein einfacher Vermisstenfall
  aussieht\, entwickelt sich bald zu einer vielschichtigen Geschichte volle
 r dunkler Geheimnisse\, politischer Verstrickungen und tiefer sozialer Ris
 se. In einer kaputten Kleinstadt wird sie nicht nur mit persönlichen Hera
 usforderungen konfrontiert\, sondern auch mit verborgenen Wahrheiten\, sys
 tematischer Vertuschung und Missbrauch\, die bis in den amerikanischen Bü
 rgerkrieg zurückreichen.\n\nParetsky verbindet klassische Hardboiled-Span
 nung mit aktuellen gesellschaftlichen Themen wie Rassismus und Geschichtsr
 evisionismus\, und das alles mit einer starken feministischen Stimme.\n\nM
 oderation und deutsche Stimme: Elsa Laudan\, Verlegerin\, Übersetzerin\,
  Lektorin\n\nDiese Veranstaltung ist Teil unserer Reihe Amerikahaus Book 
 Talks.\n\n&nbsp\;\n\n\nÜber die Autorin\n\n\n\nSara Paretsky\, eine der w
 eltweit renommiertesten Krimiautorinnen\, begann in den frühen 1980er Jah
 ren\, den Kriminalroman mit starken weiblichen Hauptfiguren neu zu gestalt
 en. Ihre Serien um die Privatdetektivin V.I. Warshawski wurden zu internat
 ionalen Bestsellern\, in 30 Sprachen übersetzt und mit zahlreichen Preise
 n ausgezeichnet. Paretsky ist Mitbegründerin des weltweiten Netzwerks "Si
 sters in Crime". Sie kritisiert offen Sexismus und Rassismus und bloggt re
 gelmäßig über lokale und nationale US-Politik. Paretsky ist eine von vi
 er lebenden Autorinnen und Autoren\, die sowohl den Grand Master Award a
 ls auch den Cartier Diamond Dagger erhalten haben.\n\n&nbsp\;\n\n\n\nTic
 kets\n\n\n\n\n\nReguläre Tickets kosten 15 €.\nErmäßigte Tickets für
  Schüler*innen und Studierende bis 25 Jahre und Mitglieder des Amerikahau
 s Vereins kosten 10 €.\n\nTickets können über folgenden Link erworben 
 werden: https://eveeno.com/288666522\n\n\n\n\n\n\n
CATEGORIES:Buchpräsentation,Gespräch / Diskussion,Lesung
LOCATION:Amerikahaus München\, Karolinenplatz 3\, München\, Bayern\, 8033
 3\, Deutschland
GEO:48.144319;11.567752
X-APPLE-STRUCTURED-LOCATION;VALUE=URI;X-ADDRESS=Karolinenplatz 3\, München
 \, Bayern\, 80333\, Deutschland;X-APPLE-RADIUS=100;X-TITLE=Amerikahaus Mü
 nchen:geo:48.144319,11.567752
END:VEVENT
BEGIN:VTIMEZONE
TZID:Europe/Berlin
X-LIC-LOCATION:Europe/Berlin
BEGIN:DAYLIGHT
DTSTART:20250330T030000
TZOFFSETFROM:+0100
TZOFFSETTO:+0200
TZNAME:CEST
END:DAYLIGHT
END:VTIMEZONE
END:VCALENDAR