BEGIN:VCALENDAR
VERSION:2.0
PRODID:-//wp-events-plugin.com//7.2.3.1//EN
TZID:Europe/Berlin
X-WR-TIMEZONE:Europe/Berlin
BEGIN:VEVENT
UID:12947@literaturseiten-muenchen.de
DTSTART;TZID=Europe/Berlin:20260512T200000
DTEND;TZID=Europe/Berlin:20260512T200000
DTSTAMP:20260415T160747Z
URL:https://www.literaturseiten-muenchen.de/veranstaltungen/boox-zwei-schr
 iftstellerinnen-fuehren-durch-den-buecherdschungel/
SUMMARY:boox – zwei Schriftstellerinnen führen durch den Bücherdschunge
 l
DESCRIPTION:boox – zwei Schriftstellerinnen führen durch den Bücherdsch
 ungel\n\nBunt wie die Blüten in den Gärten ist der Strauß aus Sommer-Ne
 uerscheinungen\, den Sabine Zaplin und Tanja Weber zusammengestellt haben.
  Die beiden Schriftstellerinnen und Moderatorinnen laden ein zur Sommer-Le
 se und stellen Romane vor\, die von ihnen kritisch gelesen und für empfeh
 lenswert betrachtet wurden. Gewiss findet sich in jedem Reisegepäck Platz
  für diese Geschichten.\n\nDarüber hinaus geben die beiden Moderatorinne
 n und Schriftstellerinnen wieder Einblick in ihre persönlichen Erfahrunge
 n mit der Verlagsbranche\, berichten von Neuigkeiten aus dem Buchmarkt und
  laden wie immer das Publikum herzlich ein\, mitzudiskutieren.\n\nMit Sabi
 ne Zaplin &amp\; Tanja Weber\n\nTickets: reservix.de\, 15€
CATEGORIES:Gespräch / Diskussion,Lesung
LOCATION:bosco Gauting\, Oberer Kirchenweg 1\, Gauting\, Bayern\, 82131\, D
 eutschland
GEO:48.067935;11.379542
X-APPLE-STRUCTURED-LOCATION;VALUE=URI;X-ADDRESS=Oberer Kirchenweg 1\, Gauti
 ng\, Bayern\, 82131\, Deutschland;X-APPLE-RADIUS=100;X-TITLE=bosco Gauting
 :geo:48.067935,11.379542
END:VEVENT
BEGIN:VTIMEZONE
TZID:Europe/Berlin
X-LIC-LOCATION:Europe/Berlin
BEGIN:DAYLIGHT
DTSTART:20260329T030000
TZOFFSETFROM:+0100
TZOFFSETTO:+0200
TZNAME:CEST
END:DAYLIGHT
END:VTIMEZONE
END:VCALENDAR