BEGIN:VCALENDAR
VERSION:2.0
PRODID:-//wp-events-plugin.com//7.2.3.1//EN
TZID:Europe/Berlin
X-WR-TIMEZONE:Europe/Berlin
BEGIN:VEVENT
UID:12955@literaturseiten-muenchen.de
DTSTART;TZID=Europe/Berlin:20260520T201500
DTEND;TZID=Europe/Berlin:20260520T201500
DTSTAMP:20260415T161836Z
URL:https://www.literaturseiten-muenchen.de/veranstaltungen/bramble-romant
 asy-night-mit-brooke-fast-helen-scheuerer-und-chloe-c-penaranda/
SUMMARY:Bramble Romantasy-Night mit Brooke Fast\, Helen Scheuerer und Chloe
  C. Peñaranda
DESCRIPTION:Die drei Autorinnen entführen in die magische Welt ihrer Büch
 er „Blood and Steel“\, „The Stars are Dying“ und „To Cage a Wild
  Bird.“\n\nargon-Sprecherin Dagmar Bittner begleitet die Lesung. Verlags
 leiterin Natalja Schmidt moderiert durch den Abend.\n\nTauch ein in eine N
 acht voller epischer Welten und Herzklopfen mit den Bestseller-Autorinnen 
 Brooke Fast und Chloe C. Peñaranda sowie der Sunday Times-Bestsellerautor
 in Helen Scheuerer.\n\nIn einem spannenden Panel-Talk plaudern die drei Au
 torinnen aus dem Nähkästchen\, lassen hinter die Kulissen blicken und be
 antworten im Q&amp\;A die brennendsten Fragen.\n\nFür die Extraportion At
 mosphäre sorgt eine deutsche Lesung\, bei der eine argon-Hörbuchsprecher
 in die Geschichten direkt zum Leben erweckt.\n\nDen krönenden Abschluss b
 ildet das persönliche Meet &amp\; Greet: Mach ein Foto mit den Autorinnen
 \, lass mitgebrachte Lieblingsbücher signieren oder entdecke neuen Lesest
 off direkt vor Ort.\n\nEin absolutes Muss für alle\, die Romantasy nicht 
 nur lesen\, sondern gemeinsam feiern wollen!\n\nTickets: reservix.de/12€
CATEGORIES:Gespräch / Diskussion,Lesung
LOCATION:Buchhandlung Hugendubel Stachus\, Karlsplatz 12\, München\, Deuts
 chland
GEO:51.056425;11.042879999999968
X-APPLE-STRUCTURED-LOCATION;VALUE=URI;X-ADDRESS=Karlsplatz 12\, München\, 
 Deutschland;X-APPLE-RADIUS=100;X-TITLE=Buchhandlung Hugendubel Stachus:geo
 :51.056425,11.042879999999968
END:VEVENT
BEGIN:VTIMEZONE
TZID:Europe/Berlin
X-LIC-LOCATION:Europe/Berlin
BEGIN:DAYLIGHT
DTSTART:20260329T030000
TZOFFSETFROM:+0100
TZOFFSETTO:+0200
TZNAME:CEST
END:DAYLIGHT
END:VTIMEZONE
END:VCALENDAR