BEGIN:VCALENDAR
VERSION:2.0
PRODID:-//wp-events-plugin.com//7.2.3.1//EN
TZID:Europe/Berlin
X-WR-TIMEZONE:Europe/Berlin
BEGIN:VEVENT
UID:11659@literaturseiten-muenchen.de
DTSTART;TZID=Europe/Berlin:20251002T193000
DTEND;TZID=Europe/Berlin:20251002T210000
DTSTAMP:20250829T072133Z
URL:https://www.literaturseiten-muenchen.de/veranstaltungen/buchclub-zeitl
 ose-seiten-rebecca-von-daphne-du-maurier/
SUMMARY:Buchclub ‚Zeitlose Seiten‘ – ‚Rebecca‘ von Daphne du Maur
 ier
DESCRIPTION:Unser Buchclub Zeitlose Seiten startet mit dem ersten Treffen a
 m Donnerstag 2. Oktober um 19:30 Uhr im Subtext. Wir lesen bis dahin den R
 oman ‚Rebecca‘ von Daphne du Maurier und werden ihn ausführlich bespr
 echen. Wir freuen uns auf Ihre Gedanken und Anregungen zu diesem zeitlosen
  Klassiker.\nDer Eintritt ist frei.
CATEGORIES:Lesekreis
LOCATION:Buchhandlung Subtext\, Sparkassenplatz 4\, Dachau\, Bayern\, 85221
 \, Deutschland
GEO:48.25537;11.43983
X-APPLE-STRUCTURED-LOCATION;VALUE=URI;X-ADDRESS=Sparkassenplatz 4\, Dachau\
 , Bayern\, 85221\, Deutschland;X-APPLE-RADIUS=100;X-TITLE=Buchhandlung Sub
 text:geo:48.25537,11.43983
END:VEVENT
BEGIN:VTIMEZONE
TZID:Europe/Berlin
X-LIC-LOCATION:Europe/Berlin
BEGIN:DAYLIGHT
DTSTART:20250330T030000
TZOFFSETFROM:+0100
TZOFFSETTO:+0200
TZNAME:CEST
END:DAYLIGHT
END:VTIMEZONE
END:VCALENDAR