BEGIN:VCALENDAR
VERSION:2.0
PRODID:-//wp-events-plugin.com//7.2.3.1//EN
TZID:Europe/Berlin
X-WR-TIMEZONE:Europe/Berlin
BEGIN:VEVENT
UID:11788@literaturseiten-muenchen.de
DTSTART;TZID=Europe/Berlin:20251022T190000
DTEND;TZID=Europe/Berlin:20251022T200000
DTSTAMP:20250915T094741Z
URL:https://www.literaturseiten-muenchen.de/veranstaltungen/buchpraesentat
 ion-mit-dr-holger-pils-briefwechsel-thomas-mann-ida-herz/
SUMMARY:Buchpräsentation mit Dr. Holger Pils. Briefwechsel Thomas Mann - I
 da Herz.
DESCRIPTION:Dr. Holger Pils (München)\, »Liebes Fräulein Herz«. Thomas 
 Manns Briefwechsel mit Ida Herz. 1924 – 1955. Vortrag mit Lichtbildern. 
 Anmeldung über Thomas-Mann-Forum München e.V. (TMFM): info@tmfm.de
CATEGORIES:Buchpräsentation
LOCATION:IBZ Internationales Begegnungszentrum der LMU\, Amalienstraße 38\
 , München\, 80799\, Deutschland
GEO:48.148601;11.577623
X-APPLE-STRUCTURED-LOCATION;VALUE=URI;X-ADDRESS=Amalienstraße 38\, Münche
 n\, 80799\, Deutschland;X-APPLE-RADIUS=100;X-TITLE=IBZ Internationales Beg
 egnungszentrum der LMU:geo:48.148601,11.577623
END:VEVENT
BEGIN:VTIMEZONE
TZID:Europe/Berlin
X-LIC-LOCATION:Europe/Berlin
BEGIN:DAYLIGHT
DTSTART:20250330T030000
TZOFFSETFROM:+0100
TZOFFSETTO:+0200
TZNAME:CEST
END:DAYLIGHT
END:VTIMEZONE
END:VCALENDAR