BEGIN:VCALENDAR
VERSION:2.0
PRODID:-//wp-events-plugin.com//7.2.3.1//EN
TZID:Europe/Berlin
X-WR-TIMEZONE:Europe/Berlin
BEGIN:VEVENT
UID:12254@literaturseiten-muenchen.de
DTSTART;TZID=Europe/Berlin:20260122T193000
DTEND;TZID=Europe/Berlin:20260122T210000
DTSTAMP:20251212T175248Z
URL:https://www.literaturseiten-muenchen.de/veranstaltungen/buchpraesentat
 ion-schauplatz-alpen/
SUMMARY:Buchpräsentation „Schauplatz Alpen“
DESCRIPTION:Bondo\, Brienz\, Lostallo\, Cevio und Blatten – die Zahl der 
 Schweizer Bergdörfer\, die von massiven Bergstürzen betroffen sind\, wä
 chst stetig und zeigt deutlich: Das Leben in den Bergen verändert sich. J
 enseits von Katastrophen erzählt uns die Autorin und Journalistin Karin S
 teinbach Tarnutzer Geschichten vom Leben in den Schweizer Alpen. Sie ist e
 ingetaucht in die Lebenswelt von Wildheuerinnen\, Helikopterpiloten und Rh
 einholzern\, hat Baustellen aber auch Permakulturprojekte im Appenzellerla
 nd und das Biodiversitätsparadies Alp Flix besucht. Jede Reportage ist um
  Wanderrouten in der jeweiligen Region ergänzt.\n\nKosten 10/7€.\n\nAnm
 eldungen unter: alpines.museum@alpenverein.de
CATEGORIES:Buchpräsentation
LOCATION:Alpines Museum\, Praterinsel 5\, München\, Bayern\, 80538\, Deuts
 chland
GEO:48.135262;11.589077
X-APPLE-STRUCTURED-LOCATION;VALUE=URI;X-ADDRESS=Praterinsel 5\, München\, 
 Bayern\, 80538\, Deutschland;X-APPLE-RADIUS=100;X-TITLE=Alpines Museum:geo
 :48.135262,11.589077
END:VEVENT
BEGIN:VTIMEZONE
TZID:Europe/Berlin
X-LIC-LOCATION:Europe/Berlin
BEGIN:STANDARD
DTSTART:20251026T020000
TZOFFSETFROM:+0200
TZOFFSETTO:+0100
TZNAME:CET
END:STANDARD
END:VTIMEZONE
END:VCALENDAR