BEGIN:VCALENDAR
VERSION:2.0
PRODID:-//wp-events-plugin.com//7.2.3.1//EN
TZID:Europe/Berlin
X-WR-TIMEZONE:Europe/Berlin
BEGIN:VEVENT
UID:11778@literaturseiten-muenchen.de
DTSTART;TZID=Europe/Berlin:20251030T190000
DTEND;TZID=Europe/Berlin:20251030T203000
DTSTAMP:20250914T132001Z
URL:https://www.literaturseiten-muenchen.de/veranstaltungen/buchpremiere-m
 onster-2-0-anthologie-mit-30-kurzgeschichten/
SUMMARY:Buchpremiere: Monster 2.0 - Anthologie mit 30 Kurzgeschichten
DESCRIPTION:MONSTER 2.0\, die neue Anthologie des muc Verlags – enthalte
 n sind 30 Geschichten von 30 Autor:innen. Das Buch erscheint am 23. Oktobe
 r 2025. Die Herausgeber:innen Sabine Brandl &amp\; Alexander Klymchuk sowi
 e beteiligte Autor:innen laden Sie ein zu einer besonderen Online-Lesung.
CATEGORIES:Buchpräsentation,Lesung
LOCATION:\, \, 
GEO:0.000000;0.000000
X-APPLE-STRUCTURED-LOCATION;VALUE=URI;X-ADDRESS=\, ;X-APPLE-RADIUS=100;X-TI
 TLE=:geo:0.000000,0.000000
END:VEVENT
BEGIN:VTIMEZONE
TZID:Europe/Berlin
X-LIC-LOCATION:Europe/Berlin
BEGIN:STANDARD
DTSTART:20251026T020000
TZOFFSETFROM:+0200
TZOFFSETTO:+0100
TZNAME:CET
END:STANDARD
END:VTIMEZONE
END:VCALENDAR