BEGIN:VCALENDAR
VERSION:2.0
PRODID:-//wp-events-plugin.com//7.2.3.1//EN
TZID:Europe/Berlin
X-WR-TIMEZONE:Europe/Berlin
BEGIN:VEVENT
UID:12102@literaturseiten-muenchen.de
DTSTART;TZID=Europe/Berlin:20251201T193000
DTEND;TZID=Europe/Berlin:20251201T210000
DTSTAMP:20251116T093919Z
URL:https://www.literaturseiten-muenchen.de/veranstaltungen/buchvorstellun
 g-band-1-und-2-ueber-die-geschichte-und-geschichten-aus-der-siedlung-alte-
 heide-im-norden-schwabings/
SUMMARY:Buchvorstellung Band 1 und 2 über die Geschichte und Geschichten a
 us der Siedlung „Alte Heide“ im Norden Schwabings
DESCRIPTION:Geschichte und Geschichten aus der Siedlung Alte Heide im Norde
 n Schwabings\, erzählt u.a. von (ehemaligen) Bewohnern\, FC-Haide-Spieler
 n und Kennern dieses versteckten Stadtviertels Münchens. Zusammengefasst 
 in zwei Bänden stellen Gerhard Peipp von der Initiative Alte Heide Buch u
 nd die Autorin Karin Sieber Einblicke in die von Theodor Fischer geplante 
 Mustersiedlung für den Siedlungsbau vor. Erleben Sie an diesem kurzweilig
 en Abend\, was den legendären Schauspieler Curd Jürgens mit der Alten He
 ide verbindet und wie die Sphingen wieder an den Eingang des Nordfriedhofs
  zurückkehrten.\nEintritt frei\nKeine vorherige Reservierung notwendig
CATEGORIES:Buchpräsentation
LOCATION:Seidlvilla\, Nikolaiplatz 1b\, München\, 80802\, Deutschland
GEO:48.15867;11.587729999999965
X-APPLE-STRUCTURED-LOCATION;VALUE=URI;X-ADDRESS=Nikolaiplatz 1b\, München\
 , 80802\, Deutschland;X-APPLE-RADIUS=100;X-TITLE=Seidlvilla:geo:48.15867,1
 1.587729999999965
END:VEVENT
BEGIN:VTIMEZONE
TZID:Europe/Berlin
X-LIC-LOCATION:Europe/Berlin
BEGIN:STANDARD
DTSTART:20251026T020000
TZOFFSETFROM:+0200
TZOFFSETTO:+0100
TZNAME:CET
END:STANDARD
END:VTIMEZONE
END:VCALENDAR