BEGIN:VCALENDAR
VERSION:2.0
PRODID:-//wp-events-plugin.com//7.2.3.1//EN
TZID:Europe/Berlin
X-WR-TIMEZONE:Europe/Berlin
BEGIN:VEVENT
UID:11912@literaturseiten-muenchen.de
DTSTART;TZID=Europe/Berlin:20251018T093000
DTEND;TZID=Europe/Berlin:20251018T130000
DTSTAMP:20251014T191430Z
URL:https://www.literaturseiten-muenchen.de/veranstaltungen/buecherbasar/
SUMMARY:Bücherbasar
DESCRIPTION:Entdeckt eine große Auswahl an französischsprachigen Romanen\
 , Kinder- und Jugendbüchern\, Sachbüchern\, Comics und DVDs – sowohl a
 us dem Bestand der Médiathèque als auch aus Spenden.\n\nAlle Medien werd
 en zu sehr günstigen Preisen angeboten - bereits ab 2€.\n\nDer Erlös d
 es Bücherbasars unterstützt die Médiathèque!
CATEGORIES:Lesung
LOCATION:Institut français\, Kaulbachstr. 13\, München\, Bayern\, 80539 \
 , Deutschland
GEO:48.147229;11.58291
X-APPLE-STRUCTURED-LOCATION;VALUE=URI;X-ADDRESS=Kaulbachstr. 13\, München\
 , Bayern\, 80539 \, Deutschland;X-APPLE-RADIUS=100;X-TITLE=Institut franç
 ais:geo:48.147229,11.58291
END:VEVENT
BEGIN:VTIMEZONE
TZID:Europe/Berlin
X-LIC-LOCATION:Europe/Berlin
BEGIN:DAYLIGHT
DTSTART:20250330T030000
TZOFFSETFROM:+0100
TZOFFSETTO:+0200
TZNAME:CEST
END:DAYLIGHT
END:VTIMEZONE
END:VCALENDAR