BEGIN:VCALENDAR
VERSION:2.0
PRODID:-//wp-events-plugin.com//7.2.3.1//EN
TZID:Europe/Berlin
X-WR-TIMEZONE:Europe/Berlin
BEGIN:VEVENT
UID:12694@literaturseiten-muenchen.de
DTSTART;TZID=Europe/Berlin:20260423T150000
DTEND;TZID=Europe/Berlin:20260423T173000
DTSTAMP:20260309T134649Z
URL:https://www.literaturseiten-muenchen.de/veranstaltungen/buergerinitiat
 ive-mehr-platz-zum-leben-laedt-zum-welttag-des-buches-ein/
SUMMARY:Bürgerinitiative „Mehr Platz zum Leben“ lädt zum Welttag des 
 Buches ein.
DESCRIPTION:In der mongolischen Jurte bezaubert ab 15 Uhr die Autorin Rikki
  Reinwein Kinder und junggebliebene Erwachsene mit spannenden Erlebnissen 
 aus ihrem neuen Kinderbuch "Lini und Mini*\nAb 15:30 Gemeinsames Singen!\n
 Eva bringt Lieder von der ganzen Welt mit.\nEinfache Töne und Lieder gebe
 n Schwung für den Alltag und fördern die Entspannung! Alle sind willkomm
 en !\nAnschließend können die BesucherInnen in Ruhe den Vogelstimmen lau
 schen und auf die vielen verschiedenen Geräusche am Gelände achten. Sitz
 ungsunterlage mitbringen.\nDie Veranstaltung ist kostenfrei\, Anmeldung ni
 cht erforderlich.
CATEGORIES:Buchpräsentation,Lesung
LOCATION:Jurte Zwischennutzung Mehr Platz zum Leben\, Hebenstreitstraße 2\
 , München\, Bayern\, 81543\, Untergiesing\, Deutschland
GEO:48.118161;11.575944
X-APPLE-STRUCTURED-LOCATION;VALUE=URI;X-ADDRESS=Hebenstreitstraße 2\, Mün
 chen\, Bayern\, 81543\, Untergiesing\, Deutschland;X-APPLE-RADIUS=100;X-TI
 TLE=Jurte Zwischennutzung Mehr Platz zum Leben:geo:48.118161,11.575944
END:VEVENT
BEGIN:VTIMEZONE
TZID:Europe/Berlin
X-LIC-LOCATION:Europe/Berlin
BEGIN:DAYLIGHT
DTSTART:20260329T030000
TZOFFSETFROM:+0100
TZOFFSETTO:+0200
TZNAME:CEST
END:DAYLIGHT
END:VTIMEZONE
END:VCALENDAR