BEGIN:VCALENDAR
VERSION:2.0
PRODID:-//wp-events-plugin.com//7.2.3.1//EN
TZID:Europe/Berlin
X-WR-TIMEZONE:Europe/Berlin
BEGIN:VEVENT
UID:11470@literaturseiten-muenchen.de
DTSTART;TZID=Europe/Berlin:20251121T100000
DTEND;TZID=Europe/Berlin:20251121T110000
DTSTAMP:20250725T104429Z
URL:https://www.literaturseiten-muenchen.de/veranstaltungen/bundesweiter-v
 orlesetag-2025-im-buecherschloss/
SUMMARY:Bundesweiter Vorlesetag 2025 im Bücherschloss
DESCRIPTION:Der Bundesweite Vorlesetag ist eine Initiative der Stiftung Les
 en\, der Wochenzeitung DIE ZEIT und der Deutsche Bahn Stiftung. Er ist das
  größte Vorlesefest Deutschlands. Die Stiftung Internationale Jugendbibl
 iothek beteiligt sich seit vielen Jahren daran und lädt jedes Mal eine pr
 ominente Persönlichkeit aus Politik\, Gesellschaft oder Kultur zum Vorles
 en ein.\n\nWer in diesem Jahr prominenter Vorleser oder prominente Vorlese
 rin sein wird\, wird im Laufe des Sommers auf der Homepage der IJB veröff
 entlich (www.ijb.de). Interessierte Schulen können sich jetzt schon anmel
 den unter empfang@ijb.de.
CATEGORIES:Lesung,Weitere Veranstaltungen
LOCATION:Internationale Jugendbibliothek\, Jella-Lepman-Saal\, Schloss Blut
 enburg\, München\, Bayern\, 81247\, Deutschland
GEO:48.163081;11.457213
X-APPLE-STRUCTURED-LOCATION;VALUE=URI;X-ADDRESS=Schloss Blutenburg\, Münch
 en\, Bayern\, 81247\, Deutschland;X-APPLE-RADIUS=100;X-TITLE=International
 e Jugendbibliothek\, Jella-Lepman-Saal:geo:48.163081,11.457213
END:VEVENT
BEGIN:VTIMEZONE
TZID:Europe/Berlin
X-LIC-LOCATION:Europe/Berlin
BEGIN:STANDARD
DTSTART:20251026T020000
TZOFFSETFROM:+0200
TZOFFSETTO:+0100
TZNAME:CET
END:STANDARD
END:VTIMEZONE
END:VCALENDAR