BEGIN:VCALENDAR
VERSION:2.0
PRODID:-//wp-events-plugin.com//7.2.3.1//EN
TZID:Europe/Berlin
X-WR-TIMEZONE:Europe/Berlin
BEGIN:VEVENT
UID:12401@literaturseiten-muenchen.de
DTSTART;TZID=Europe/Berlin:20260328T150000
DTEND;TZID=Europe/Berlin:20260328T163000
DTSTAMP:20260121T135021Z
URL:https://www.literaturseiten-muenchen.de/veranstaltungen/carl-orff-lesu
 ng-bairisches-welttheater-diptychon/
SUMMARY:Carl Orff -Lesung: Bairisches Welttheater DIPTYCHON
DESCRIPTION:Klaus Wittmann liest Carl Orffs Bairisches Welttheater:\n\nDIPT
 YCHON ~ Vom Vorspiel bis zur Resurrectio:\n\n„Ludus de nato Infante miri
 ficus“ – ein Weihnachtsspiel vereint mit\n„Comoedia de Christi Resur
 rectione“ – ein Osterspiel\n\nSamstag\, 28. März 2026\, 15 Uhr\n\nSch
 loss Kempfenhausen\, Rittersaal\,\nMilchberg 11\, 82335 Berg bei Starnberg
 \n\nEintritt: 15 EURO\nReservierung erbeten: T.08041 7962940\n\nKlaus Witt
 mann ist der einzige Sprecher im deutschsprachigen Raum\,\nden der Rechtei
 nhaber dazu berechtigt hat\, die auf Bairisch verfassten Werke\ndes Kompon
 isten Carl Orff öffentlich als Lesung vorzutragen.\nWittmann trägt die W
 erke in gleicher Art\, Form und Weise vor\, wie es Carl Orff\nzu Lebzeiten
  selbst getan hat.\n\nDie Idee zu Orffs Mysterienspiele entspringt der\, d
 er christlichen Heilslehre zu Grunde-liegenden Spannung zwischen Gut und B
 öse. Dämonische Gegenmächte in Form von Hexen und Teufel versuchen\, Ge
 burt und Auferstehung Christi und somit die Erlösung und das Heil der Wel
 t zu verhindern.\nOrffs Weihnachtspiel gilt als eine Art „Vorspiel“ se
 ines Osterspiels und führt nahtlos hin zu seinem Osterspiel\, dem Triumph
  aller Triumphe.\nOrff hat beide Stücke als „Diptychon“ vereint\, um 
 den gedanklichen Zusammenhang deutlich zu machen. Beide Werke sind wie auf
 einander zugeordnete Bilder – auf einem Zwei-Flügel-Altar kontrastiert 
 und zu verstehen.
CATEGORIES:Lesung
LOCATION:Schloss Kempfenhausen\, Milchberg 11\, Berg\, Bayern\, Deutschland
GEO:47.987893;11.365736
X-APPLE-STRUCTURED-LOCATION;VALUE=URI;X-ADDRESS=Milchberg 11\, Berg\, Bayer
 n\, Deutschland;X-APPLE-RADIUS=100;X-TITLE=Schloss Kempfenhausen:geo:47.98
 7893,11.365736
END:VEVENT
BEGIN:VTIMEZONE
TZID:Europe/Berlin
X-LIC-LOCATION:Europe/Berlin
BEGIN:STANDARD
DTSTART:20251026T020000
TZOFFSETFROM:+0200
TZOFFSETTO:+0100
TZNAME:CET
END:STANDARD
END:VTIMEZONE
END:VCALENDAR