BEGIN:VCALENDAR
VERSION:2.0
PRODID:-//wp-events-plugin.com//7.2.3.1//EN
TZID:Europe/Berlin
X-WR-TIMEZONE:Europe/Berlin
BEGIN:VEVENT
UID:12087@literaturseiten-muenchen.de
DTSTART;TZID=Europe/Berlin:20260115T190000
DTEND;TZID=Europe/Berlin:20260115T203000
DTSTAMP:20251107T084108Z
URL:https://www.literaturseiten-muenchen.de/veranstaltungen/caro-matzko-al
 te-wut/
SUMMARY:Caro Matzko: Alte Wut
DESCRIPTION:Caro Matzko\, Moderatorin\, Journalistin und Autorin\, hat fami
 liäre Wurzeln in Ostpreußen. Sie präsentiert ihr neues Buch Alte Wut mi
 t dem Untertitel „Warum ich an den Ort reiste\, von dem mein Vater einst
  fliehen musste“.\n\nAls Zehnjähriger floh Caro Matzkos Vater aus Ostpr
 eußen. Er verlor seine Heimat\, seine Kindheit und erlebte Dinge\, die ke
 in Mensch je vergisst. Achtzig Jahre später reist seine Tochter auf seine
 r Fluchtroute zurück\, auf der Suche nach Antworten. Sie will verstehen\,
  warum sich die seelischen Verletzungen ihres Vaters in ihrem eigenen Lebe
 n fortpflanzen konnten. Wo liegt der Ursprung ihrer durchlebten Magersucht
 \, ihrer Kämpfe gegen Depression und Burnout? Wie vererben sich Traumata 
 von einer Generation auf die nächste? Mit schonungsloser Ehrlichkeit und 
 unerschrockenem Humor erzählt die Autorin von einer schmerzhaften Reise\,
  die ihr alles abverlangt.\n\nModeration: Andreas Otto Weber (Haus des Deu
 tschen Ostens)\, Wolfgang Schwarz (Kulturreferent für die böhmischen Lä
 nder im Adalbert Stifter Verein)\n\nEine Veranstaltung des Kulturreferats 
 für die böhmischen Länder im Adalbert Stifter Verein und des Hauses des
  Deutschen Ostens.
CATEGORIES:Buchpräsentation
LOCATION:Sudetendeutsches Haus\, Hochstraße 8\, München\, 81669\, Deutsch
 land
GEO:48.130525;11.589011
X-APPLE-STRUCTURED-LOCATION;VALUE=URI;X-ADDRESS=Hochstraße 8\, München\, 
 81669\, Deutschland;X-APPLE-RADIUS=100;X-TITLE=Sudetendeutsches Haus:geo:4
 8.130525,11.589011
END:VEVENT
BEGIN:VTIMEZONE
TZID:Europe/Berlin
X-LIC-LOCATION:Europe/Berlin
BEGIN:STANDARD
DTSTART:20251026T020000
TZOFFSETFROM:+0200
TZOFFSETTO:+0100
TZNAME:CET
END:STANDARD
END:VTIMEZONE
END:VCALENDAR