BEGIN:VCALENDAR
VERSION:2.0
PRODID:-//wp-events-plugin.com//7.2.3.1//EN
TZID:Europe/Berlin
X-WR-TIMEZONE:Europe/Berlin
BEGIN:VEVENT
UID:12338@literaturseiten-muenchen.de
DTSTART;TZID=Europe/Berlin:20260204T180000
DTEND;TZID=Europe/Berlin:20260204T200000
DTSTAMP:20260109T073011Z
URL:https://www.literaturseiten-muenchen.de/veranstaltungen/cathryn-clueve
 r-ashbrook-der-amerikanische-weckruf/
SUMMARY:Cathryn Clüver Ashbrook: "Der amerikanische Weckruf"
DESCRIPTION:\n\n2026 – 250 Jahre amerikanische Demokratie. Und Donald Tru
 mps zweites Jahr zurück an der Macht: Ein historisches Jubiläum trifft a
 uf eine historische Zäsur. Während die Vereinigten Staaten ein Viertelja
 hrtausend Verfassungsstaat feiern\, setzt Präsident Trump seinen autorit
 ären Umbau fort – mit einer Agenda\, die tiefgreifender\, strategischer
  und entschlossener ist als je zuvor. Die gefragte transatlantische Politi
 kexpertin Cathryn Clüver Ashbrook zeigt in ihrem ersten Buch\, wie die a
 merikanische Demokratie gezielt ausgehöhlt wird: durch systematische Schw
 ächung der Gewaltenteilung\, ideologische Kontrolle von Bildung und Medie
 n\, juristische Umdeutung von Machtbefugnissen und gezielte Einschüchteru
 ng politischer Gegner. Was viele als Chaos oder Einzelfälle abtaten\, war
  in Wahrheit Teil einer langfristigen Strategie – und genau das haben wi
 r übersehen.\n\n\n\n\n\n\nDoch Clüver Ashbrook geht weiter: Sie zeigt\, 
 wie dieselben Muster in Europa Einzug halten – auch in Deutschland. Die 
 Illusion\, dass liberale Demokratien automatisch stabil seien\, hat uns bl
 ind gemacht für die Angriffspunkte von innen. Gerade dort\, wo Institutio
 nen schwach\, Bildungssysteme ungeschützt und Öffentlichkeit fragmentier
 t sind\, greifen autoritäre Strategien besonders leicht.\n\nDieses Buch i
 st ein politisches Frühwarnsystem. Und ein Handbuch der demokratischen Se
 lbstverteidigung. Es benennt die Schwächen\, die Populisten systematisch 
 ausnutzen. Es zeigt\, welche Lehren wir aus dem amerikanischen Fall ziehen
  müssen. Und es macht deutlich\, was jetzt zu tun ist – auf politische
 r\, juristischer und gesellschaftlicher Ebene. Damit wir nicht in wenigen 
 Jahren zurückblicken und gerade auch wegen der eigenen historischen Veran
 twortung sagen müssen: Auch wir hätten es wissen können.\n\nAnmeldung: 
 Der reguläre Eintritt beträgt 10 Euro pro Person. Der Eintritt für Sch
 üler*innen und Studierende bis 25 Jahre sowie Mitglieder des Amerikahaus 
 Vereins ist kostenlos. Tickets können unter https://eveeno.com/226985763
  erworben werden.\n\nVeranstalter: Amerikahaus München\, Brandstätter 
 Verlag\n\n\n\n
CATEGORIES:Buchpräsentation,Gespräch / Diskussion
LOCATION:Amerikahaus\, Karolinenplatz 3\, München\, 80333\, Deutschland
GEO:48.144416;11.568125
X-APPLE-STRUCTURED-LOCATION;VALUE=URI;X-ADDRESS=Karolinenplatz 3\, München
 \, 80333\, Deutschland;X-APPLE-RADIUS=100;X-TITLE=Amerikahaus:geo:48.14441
 6,11.568125
END:VEVENT
BEGIN:VTIMEZONE
TZID:Europe/Berlin
X-LIC-LOCATION:Europe/Berlin
BEGIN:STANDARD
DTSTART:20251026T020000
TZOFFSETFROM:+0200
TZOFFSETTO:+0100
TZNAME:CET
END:STANDARD
END:VTIMEZONE
END:VCALENDAR