BEGIN:VCALENDAR
VERSION:2.0
PRODID:-//wp-events-plugin.com//7.2.3.1//EN
TZID:Europe/Berlin
X-WR-TIMEZONE:Europe/Berlin
BEGIN:VEVENT
UID:12126@literaturseiten-muenchen.de
DTSTART;TZID=Europe/Berlin:20251202T170000
DTEND;TZID=Europe/Berlin:20251202T200000
DTSTAMP:20251114T080200Z
URL:https://www.literaturseiten-muenchen.de/veranstaltungen/christian-sepp
 -praesentiert-caroline/
SUMMARY:Christian Sepp präsentiert »Caroline«
DESCRIPTION:Die Generaldirektion der Staatlichen Archive Bayerns lädt Sie 
 am Dienstag\, den 2. Dezember 2025\, um 17 Uhr herzlich zur Buchpräsentat
 ion: »Caroline. Bayerns erste Königin« von Christian Sepp ein. Dort hab
 en Sie die Gelegenheit\, die erste umfassende Biografie über Königin Car
 oline von Bayern kennenzulernen. Der Einlass beginnt bereits um 16:30 Uhr\
 , und der Eintritt ist frei.
CATEGORIES:Buchpräsentation
LOCATION:Generaldirektion der Staatlichen Archive Bayerns\, Schönfeldstr. 
 5\, München\, Bayern\, 80539 \, Deutschland
GEO:48.146121;11.580893
X-APPLE-STRUCTURED-LOCATION;VALUE=URI;X-ADDRESS=Schönfeldstr. 5\, München
 \, Bayern\, 80539 \, Deutschland;X-APPLE-RADIUS=100;X-TITLE=Generaldirekti
 on der Staatlichen Archive Bayerns:geo:48.146121,11.580893
END:VEVENT
BEGIN:VTIMEZONE
TZID:Europe/Berlin
X-LIC-LOCATION:Europe/Berlin
BEGIN:STANDARD
DTSTART:20251026T020000
TZOFFSETFROM:+0200
TZOFFSETTO:+0100
TZNAME:CET
END:STANDARD
END:VTIMEZONE
END:VCALENDAR