BEGIN:VCALENDAR
VERSION:2.0
PRODID:-//wp-events-plugin.com//7.2.3.1//EN
TZID:Europe/Berlin
X-WR-TIMEZONE:Europe/Berlin
BEGIN:VEVENT
UID:11286@literaturseiten-muenchen.de
DTSTART;TZID=Europe/Berlin:20251009T190000
DTEND;TZID=Europe/Berlin:20251009T203000
DTSTAMP:20250602T140140Z
URL:https://www.literaturseiten-muenchen.de/veranstaltungen/christof-weigo
 ld-der-deutsche-tycoon/
SUMMARY:Christof Weigold – "Der Deutsche Tycoon"
DESCRIPTION:Christof Weigold\, Autor der Krimireihe Hollywood – Hardy Eng
 el ermittelt\, liest im Amerikahaus im Rahmen des Krimifestival München a
 us seinem neuen Buch Der Deutsche Tycoon.\n\nAls Hardy Engel 1920 nach Ame
 rika einwanderte\, bekam er dabei entscheidende Hilfe von seinem Landsmann
  Paul Levy\, den er danach aus den Augen verlor. 1932 trifft Engel\, inzwi
 schen Privatdetektiv\, ihn wieder. Levy ist unter dem Namen Paul Bern zu e
 inem mächtigen Filmproduzenten von Metro-Goldwyn-Mayer geworden – und E
 hemann von Hollywood-Superstar Jean Harlow. Mitten in der Weltwirtschaftsk
 rise scheint es\, als sei das Wiedersehen ein Glücksfall für den arbeits
 losen Detektiv\, der von Paul einen lukrativen Auftrag bekommt. Und auch f
 ür seinen Freund\, den Barbesitzer Buck\, der massive Schulden bei der Ma
 fia hat. Doch dann liegt Paul ermordet in seiner Villa\, und Hardy wird in
  einen Fall hineingezogen\, der ihn fordert wie noch keiner zuvor und der 
 alte Freundschaften infrage stellt…\n\nDiese Veranstaltung ist Teil der 
 Reihe Amerikahaus Book Talks.\n\nVeranstalter: Krimifestival München\, S
 tiftung Bayerisches Amerikahaus München\n\nPartner: Kampa Verlag
CATEGORIES:Lesung
LOCATION:Amerikahaus\, Karolinenplatz 3\, München\, 80333\, Deutschland
GEO:48.144416;11.568125
X-APPLE-STRUCTURED-LOCATION;VALUE=URI;X-ADDRESS=Karolinenplatz 3\, München
 \, 80333\, Deutschland;X-APPLE-RADIUS=100;X-TITLE=Amerikahaus:geo:48.14441
 6,11.568125
END:VEVENT
BEGIN:VTIMEZONE
TZID:Europe/Berlin
X-LIC-LOCATION:Europe/Berlin
BEGIN:DAYLIGHT
DTSTART:20250330T030000
TZOFFSETFROM:+0100
TZOFFSETTO:+0200
TZNAME:CEST
END:DAYLIGHT
END:VTIMEZONE
END:VCALENDAR