BEGIN:VCALENDAR
VERSION:2.0
PRODID:-//wp-events-plugin.com//7.2.3.1//EN
TZID:Europe/Berlin
X-WR-TIMEZONE:Europe/Berlin
BEGIN:VEVENT
UID:12203@literaturseiten-muenchen.de
DTSTART;TZID=Europe/Berlin:20260204T190000
DTEND;TZID=Europe/Berlin:20260204T203000
DTSTAMP:20251203T151546Z
URL:https://www.literaturseiten-muenchen.de/veranstaltungen/christoph-saff
 erling-recht-ohne-wirkung-die-ohnmacht-des-voelkerrechts-angesichts-global
 er-gewalt/
SUMMARY:Christoph Safferling: Recht ohne Wirkung? Die Ohnmacht des Völkerr
 echts angesichts globaler Gewalt
DESCRIPTION:Mit den Kriegsverbrecherprozessen nach dem 2. Weltkrieg begann 
 ein neues Kapitel in der Geschichte des Völkerrechts\, eine regelbasierte
  Weltordnung schien realistisch. Doch die Wirklichkeit im frühen 21. Jahr
 hundert ist eine andere\, nicht erst seit Russlands Einmarsch in die Ukrai
 ne. Auch Israels Reaktion auf das Massaker vom 7. Oktober wirft Fragen auf
 . Christoph Safferling zeichnet den Weg von 1945 bis heute nach und benenn
 t blinde Flecken. Seine Bilanz ist ernüchternd\, sein Appell scharf: Gera
 de Deutschland muss die völkerrechtlichen Standards einfordern. Das Recht
  verträgt keine Kompromisse.\n\nProf. Dr. Christoph Safferling\nist Profe
 ssor für Strafrecht\, Strafprozessrecht\, Internationales Strafrecht und 
 Völkerrecht an der Friedrich-Alexander-Universität Erlangen-Nürnberg un
 d Direktor der Internationalen Akademie Nürnberger Prinzipien.\n\nWir bit
 ten um Anmeldung unter:\nhttps://www.stadtakademie-muenchen.de/veranstaltu
 ng/recht-ohne-wirkung/
CATEGORIES:Buchpräsentation,Gespräch / Diskussion,Vortrag
LOCATION:Evangelische Stadtakademie München\, Herzog-Wilhelm-Straße 24\, 
 München\, 80331\, Deutschland
GEO:48.135242;11.566574
X-APPLE-STRUCTURED-LOCATION;VALUE=URI;X-ADDRESS=Herzog-Wilhelm-Straße 24\,
  München\, 80331\, Deutschland;X-APPLE-RADIUS=100;X-TITLE=Evangelische St
 adtakademie München:geo:48.135242,11.566574
END:VEVENT
BEGIN:VTIMEZONE
TZID:Europe/Berlin
X-LIC-LOCATION:Europe/Berlin
BEGIN:STANDARD
DTSTART:20251026T020000
TZOFFSETFROM:+0200
TZOFFSETTO:+0100
TZNAME:CET
END:STANDARD
END:VTIMEZONE
END:VCALENDAR