BEGIN:VCALENDAR
VERSION:2.0
PRODID:-//wp-events-plugin.com//7.2.3.1//EN
TZID:Europe/Berlin
X-WR-TIMEZONE:Europe/Berlin
BEGIN:VEVENT
UID:11731@literaturseiten-muenchen.de
DTSTART;TZID=Europe/Berlin:20251022T190000
DTEND;TZID=Europe/Berlin:20251022T190000
DTSTAMP:20250909T085908Z
URL:https://www.literaturseiten-muenchen.de/veranstaltungen/comic-bar-eliz
 abeth-pich-mit-fungirl/
SUMMARY:Comic Bar: Elizabeth Pich mit "Fungirl"
DESCRIPTION:Lesung und Gespräch mit Moderation von Dominik Wendland\nEintr
 itt frei\nVeranstaltungsort: Projektor\, Erdgeschoss\nFungirl ist eine per
 spektivlose junge Frau\, die ihre Tage zu Hause damit verbringt\, zu mastu
 rbieren\, Take-away-Pizza zu essen und alte Sitcoms zu schauen. Sie rennt 
 von einer Affäre zur nächsten und ist hemmungslos und extrem in allem\, 
 was sie macht. Ihr neuer Job bei einem Bestattungsunternehmen bringt neues
  Chaos — ihr Leben ist eine Abfolge von absurden\, politisch inkorrekten
 \, slapstickartigen Situationen. Ihr Verhalten ist unangebracht\, vulgär\
 , opportunistisch und trotzdem - oder gerade deswegen - überraschend mens
 chlich und charmant. Eine Ode an Screw-ups mit einem Herz aus Gold.\n\nEli
 zabeth Pich \,* 1989 in Deutschland\, wuchs in den Vereinigten Staaten auf
  und studierte Kommunikationsdesign an der HBK Saar\, wo sie später auch 
 selbst als Dozentin aktiv war. Schon während ihrer Studienzeit begann sie
  zusammen mit Jonathan Kunz den Webcomic "War and Peas" und die über 500 
 Episoden erreichten internationale Aufmerksamkeit. Seit 2014 arbeitet sie 
 außerdem an ihrer Comicserie Fungirl welche 2024 bei Edition Moderne ersc
 hien.\n\nDie Veranstaltung wird auf Youtube live gestreamt.\n\nZum Livestr
 eam\n\nInformationen zur Anmeldung\n\n\nOhne Anmeldung\n\n\n
CATEGORIES:Lesung
LOCATION:Münchner Stadtbibliothek im HP8\, Hans-Preißinger-Straße 8\, M
 ünchen\, Deutschland
GEO:48.111734;11.553315
X-APPLE-STRUCTURED-LOCATION;VALUE=URI;X-ADDRESS=Hans-Preißinger-Straße 8\
 , München\, Deutschland;X-APPLE-RADIUS=100;X-TITLE=Münchner Stadtbibliot
 hek im HP8:geo:48.111734,11.553315
END:VEVENT
BEGIN:VTIMEZONE
TZID:Europe/Berlin
X-LIC-LOCATION:Europe/Berlin
BEGIN:DAYLIGHT
DTSTART:20250330T030000
TZOFFSETFROM:+0100
TZOFFSETTO:+0200
TZNAME:CEST
END:DAYLIGHT
END:VTIMEZONE
END:VCALENDAR