BEGIN:VCALENDAR
VERSION:2.0
PRODID:-//wp-events-plugin.com//7.2.3.1//EN
TZID:Europe/Berlin
X-WR-TIMEZONE:Europe/Berlin
BEGIN:VEVENT
UID:12349@literaturseiten-muenchen.de
DTSTART;TZID=Europe/Berlin:20260203T190000
DTEND;TZID=Europe/Berlin:20260203T210000
DTSTAMP:20260112T074611Z
URL:https://www.literaturseiten-muenchen.de/veranstaltungen/cornelia-miche
 l-praesentiert-annette-kolb-zwischen-uns-briefe-der-freundschaft/
SUMMARY:Cornelia Michél präsentiert »Annette Kolb ›Zwischen uns. Brief
 e der Freundschaft‹«
DESCRIPTION:Das Literaturhaus München lädt herzlich zum literarischen A
 bend mit der Autorin Cornelia Michél anlässlich ihrer Neuerscheinung 
 »Annette Kolb – Zwischen uns. Briefe der Freundschaft« am Dienstag\
 , den 3. Februar 2026\, um 19 Uhr ein. Die Foyer-Bar öffnet bereits ab
  18 Uhr. Mit dabei sind Isabelle Stauffer\, Waldemar Fromm und Michael Pil
 z. Der Eintritt beträgt 16 Euro\, ermäßigt 10 Euro. Veranstalter ist di
 e Annette Kolb-Gesellschaft in Kooperation mit der Stiftung Literaturhaus.
  Die Veranstaltung wird gefördert durch das Kulturreferat der Landeshaupt
 stadt München.\nAnnette Kolb: Frankophile Münchnerin und überzeugte Eur
 opäerin\nAnnette Kolb (1870–1967) war eine selbstbestimmte Frau und fem
 me de lettres. Die frankophile Münchnerin war überzeugte Europäerin\, P
 azifistin und Gegnerin des Nationalsozialismus. In ihrer Korrespondenz zei
 gt sie sich als moderne Networkerin. Dabei wirkt sie scharfsinnig und zuge
 wandt\, hilfsbereit und humorvoll. Ihre Briefe offenbaren eine bemerkenswe
 rte Persönlichkeit mit klarer Haltung.\n\nDer neue Briefband\, herausgege
 ben von Annette Kolbs Großnichte und Autorin Cornelia Michél\, vereint m
 ehr als 180 Briefe. Sie stammen von Annette Kolb und vielen ihrer Freunde.
  Besonders bedeutsam sind zwei erstmals veröffentlichte Briefe von Thomas
  Mann. Der Band erweitert die von Albert M. Debrunner und Cornelia Michél
  2019 herausgegebene Edition »Annette Kolb – Ich hätte Dir noch so vie
 l zu erzählen« inhaltlich und thematisch. Diese Dokumente gewähren einz
 igartige Einblicke in literarische und persönliche Netzwerke des 20. Jahr
 hunderts.\n»Zwischen uns. Briefe der Freundschaft« – Einblicke in ein 
 bewegtes Leben\nDas facettenreiche\, scharf beobachtende und bewegte Leben
  der in München geborenen Annette Kolb zeigt sich besonders in ihren priv
 aten Briefwechseln. Sie eröffnen einen persönlichen Blick auf eine mutig
 e\, emanzipierte Frau. Ihr leidenschaftliches Engagement galt zeitlebens d
 er deutsch-französischen Freundschaft. Außerdem setzte sie sich unermüd
 lich für Frieden und Verständigung beider Länder ein. Auch Paris ehrt A
 nnette Kolb mit zwei Gedenkplaketten an ihren ehemaligen Wohnstätten. Die
 se Anerkennung unterstreicht ihre Bedeutung für die deutsch-französische
  Verständigung.\nEin Abend mit Cornelia Michél und Kolb-Forschern\nBei d
 er Veranstaltung im Literaturhaus München hören Sie eine Auswahl der Bri
 efe. Cornelia Michél kommentiert diese im Gespräch mit Kolb-Forscher*inn
 en. Isabelle Stauffer\, Waldemar Fromm und Michael Pilz sind Mitbegründer
  der Annette Kolb-Gesellschaft. Sie ordnen die Briefe historisch und liter
 arisch ein. Ausgewählte Briefe werden vorgelesen und machen die Stimme An
 nette Kolbs lebendig.\n\nVeranstaltungsdetails:\n\nDatum: Dienstag\, 3. F
 ebruar 2026\nUhrzeit: 19:00 Uhr (Foyer-Bar ab 18:00 Uhr)\nOrt: Literatur
 haus München\, Salvatorplatz 1\, 80333 München\nEintritt: 16 Euro / erm
 äßigt 10 Euro
CATEGORIES:Buchpräsentation,Lesung
LOCATION:Literaturhaus München\, Salvatorplatz 1\, München\, Bayern\, 803
 33\, Deutschland
GEO:48.142051;11.574991
X-APPLE-STRUCTURED-LOCATION;VALUE=URI;X-ADDRESS=Salvatorplatz 1\, München\
 , Bayern\, 80333\, Deutschland;X-APPLE-RADIUS=100;X-TITLE=Literaturhaus M
 ünchen:geo:48.142051,11.574991
END:VEVENT
BEGIN:VTIMEZONE
TZID:Europe/Berlin
X-LIC-LOCATION:Europe/Berlin
BEGIN:STANDARD
DTSTART:20251026T020000
TZOFFSETFROM:+0200
TZOFFSETTO:+0100
TZNAME:CET
END:STANDARD
END:VTIMEZONE
END:VCALENDAR