BEGIN:VCALENDAR
VERSION:2.0
PRODID:-//wp-events-plugin.com//7.2.3.1//EN
TZID:Europe/Berlin
X-WR-TIMEZONE:Europe/Berlin
BEGIN:VEVENT
UID:12309@literaturseiten-muenchen.de
DTSTART;TZID=Europe/Berlin:20260111T140000
DTEND;TZID=Europe/Berlin:20260111T173000
DTSTAMP:20260101T092246Z
URL:https://www.literaturseiten-muenchen.de/veranstaltungen/creative-writi
 ng-for-beginners-in-english/
SUMMARY:Creative Writing for Beginners (in English!)
DESCRIPTION:Where do writers get their ideas? How do I turn an idea into a 
 poem or a story? What is creative writing\, anyhow?\n\nIn this workshop\, 
 you'll learn creative writing basics such as cultivating awareness\,\nwrit
 ing practice\, keeping notebooks\, mining your own life\, taking yourself 
 out on artist dates\, and reading like a writer. You’ll learn about poin
 t of view\, and you’ll try out the use of prompts (images\, objects\, wo
 rds and phrases) to develop a fictional character and start writing a stor
 y.\n\nReady to get your creative juices flowing?\n\nThis workshop will be 
 in English\, but those who write in other languages are very welcome.\n\nQ
 uestions? Ready to register? Send an email to store@themunichreadery.com\n
 \nWorkshop leader Lisa Yarger is the author of the award-winning book\, Lo
 vie: The Story of a Southern Midwife and an Unlikely Friendship (Universit
 y of North Carolina Press).\n\nWorkshop fee: 45€ with reduced rates for 
 students supporting themselves or in hardship cases.
CATEGORIES:Schreibwerkstatt
LOCATION:The Munich Readery\, Augustenstrasse 104\, München\, Bayern\, 807
 98\, Deutschland
GEO:48.153001;11.565726
X-APPLE-STRUCTURED-LOCATION;VALUE=URI;X-ADDRESS=Augustenstrasse 104\, Münc
 hen\, Bayern\, 80798\, Deutschland;X-APPLE-RADIUS=100;X-TITLE=The Munich R
 eadery:geo:48.153001,11.565726
END:VEVENT
BEGIN:VTIMEZONE
TZID:Europe/Berlin
X-LIC-LOCATION:Europe/Berlin
BEGIN:STANDARD
DTSTART:20251026T020000
TZOFFSETFROM:+0200
TZOFFSETTO:+0100
TZNAME:CET
END:STANDARD
END:VTIMEZONE
END:VCALENDAR