BEGIN:VCALENDAR
VERSION:2.0
PRODID:-//wp-events-plugin.com//7.2.3.1//EN
TZID:Europe/Berlin
X-WR-TIMEZONE:Europe/Berlin
BEGIN:VEVENT
UID:11542@literaturseiten-muenchen.de
DTSTART;TZID=Europe/Berlin:20250916T193000
DTEND;TZID=Europe/Berlin:20250916T211500
DTSTAMP:20250805T162308Z
URL:https://www.literaturseiten-muenchen.de/veranstaltungen/dankbarkeiten/
SUMMARY:Dankbarkeiten
DESCRIPTION:Letzte Spieltermine der Erfolgsproduktion DANKBARKEITEN nach de
 m Bestseller der französischen Erfolgsautorin DELPHINE DE VIGAN\, im klei
 nsten Theater von ganz München.\nAb 16.September 25\, weitere Termine auf
  der Website: www.mathildewestend.de\n\nRegie und Textfassung: Theresa Han
 ich\nmit Elisabeth Rass\, Christina Matschoss und Ruben Hagspiel\n\nEin pa
 ar Pressestimmen und Zuschauermails nach über 70 Aufführungen!!!\n\nPres
 sestimmen:\n\nMichael Stadler schreibt in der Abendzeitung München vom 12
 .12.23:\n„Berührend nahe\, weil Theresa Hanich als Marie und Florian Ha
 ckspiel als Jerome feinfühlig die emphatischen Satelliten um Michka spiel
 en. Und weil Elisabeth Rass ihre Michka mit einer großen emotionalen Band
 breite ausstattet. Scharf ironisch kann Michka sein\, störrisch\, aber au
 ch mädchenhaft leicht\, warmherzig\, zum Mitheulen verzweifelt. Dies alle
 s direkt vor dem Publikum zu zeigen\, mit Blicken\, die oft ins Innere geh
 en\, ist wunderbar konzentriertes Schauspiel. (…) Wer große Emotionen a
 uf den großen Bühnen vermisst\, bekommt sie hier\, im kleinsten Theater 
 der Stadt. Danke dafür.“\n\nUlrike Frick schreibt im Münchner Merkur v
 om 19.12.23:\n„Elisabeth Rass\, die der Michka anfangs eine faszinierend
 e Intensität verleiht\, macht das Gebrechen ebenso sichtbar wie den ungeb
 rochenen Humor dieser Frau.Theresa Hanich hat mit ihrer Crew auf 15 Quadra
 tmeter ein feines\, kleines und präzises Kammerspiel gezaubert\, dessen W
 irkung riesengroß ist und lange nachhallt.“\n\nEnna Klech schreibt in d
 er Süddeutschen Zeitung vom 12.12.23:\n„(...)So nah\, dass sie den Besu
 chern in der ersten Reihe eine Praline anbieten kann. So nah\, dass auch d
 ie Besucher in der dritten Reihe ihre Tränen fließen sehen. So nah\, das
 s der Schmerz über ihren Verlust allen unter die Haut geht. (…) Mit der
  rührenden Interpretation des generationsübergreifenden Dramas beweist d
 as kleine Team\, dass große Geschichten über Dankbarkeiten\, Liebe und V
 erlust auch auf winziger Bühne funktionieren und berühren…“\n\nPubli
 kumsstimmen:\n\n"Es war ein einzigartig bewegender Abend. Ich war schon la
 nge nicht mehr so berührt vom Inhalt\, den Worten\, den Schauspielern und
  der Inszenierung. Danke"\n\n„Höchst beeindruckend\, wie es Ihrer Insze
 nierung\, Ihren Schauspieler*Innen gelingt\, die Subtilität\, die empathi
 sche Zwischenmenschlichkeit und die Härte dieser Realität so nah an den 
 Zuschauern\, so überzeugend zu vergegenwärtigen: Hautnah und „unter di
 e Haut gehend“. Auf Grund vergleichbarer\, persönlicher Erfahrungen der
 zeit in meiner unmittelbaren Nähe\, kann ich von der positiven Kraft dies
 es Abends\, von seiner kathartischen Wirkung sprechen. Mit Dank! Und herzl
 ichen Grüßen.“
CATEGORIES:Weitere Veranstaltungen
LOCATION:Theater Mathilde Westend\, Gollierstraße 81\, München \, Bayern\
 , 80339\, Bayern\, Deutschland
GEO:48.136363;11.530831
X-APPLE-STRUCTURED-LOCATION;VALUE=URI;X-ADDRESS=Gollierstraße 81\, Münche
 n \, Bayern\, 80339\, Bayern\, Deutschland;X-APPLE-RADIUS=100;X-TITLE=Thea
 ter Mathilde Westend:geo:48.136363,11.530831
END:VEVENT
BEGIN:VTIMEZONE
TZID:Europe/Berlin
X-LIC-LOCATION:Europe/Berlin
BEGIN:DAYLIGHT
DTSTART:20250330T030000
TZOFFSETFROM:+0100
TZOFFSETTO:+0200
TZNAME:CEST
END:DAYLIGHT
END:VTIMEZONE
END:VCALENDAR