BEGIN:VCALENDAR
VERSION:2.0
PRODID:-//wp-events-plugin.com//7.2.3.1//EN
TZID:Europe/Berlin
X-WR-TIMEZONE:Europe/Berlin
BEGIN:VEVENT
UID:11713@literaturseiten-muenchen.de
DTSTART;TZID=Europe/Berlin:20251030T190000
DTEND;TZID=Europe/Berlin:20251030T213000
DTSTAMP:20250908T190255Z
URL:https://www.literaturseiten-muenchen.de/veranstaltungen/das-doppelte-g
 esicht/
SUMMARY:"Das doppelte Gesicht“
DESCRIPTION:1945-2025 - 80 Jahre Kriegsende - die Stunde Null?“\n\n„Das
  doppelte Gesicht“\nLesung mit der Autorin Heidi Rehn\, moderiert von de
 r Historikerin Lilly Maier\n\nEinladung zur Lesung in Moosach\n\nAugust 19
 45 – im ersten Nachkriegssommer versinkt München im Chaos. Ruinen\, Sch
 utt\, Vertriebene und heimatlos Gewordene beherrschen das Straßenbild. Da
 zwischen zurückkehrende wie die junge jüdische Reporterin Billa Löwenfe
 ld\, die nach dem Exil wieder in ihrem früheren Zuhause leben will\, aus 
 dem sie wenige Jahre zuvor davongejagt wurde.\nZusammen mit dem noch unerf
 ahrenen Ermittler Emil Graf sieht Billa sich jedoch mit drei rätselhaften
  Mordfällen konfrontiert\, die die Frage nach Täter\, Opfer und Schuld s
 owie der Frage\, ob eine Heimkehr überhaupt (schon) möglich ist\, völli
 g neu stellen.\n\nAm 30. Oktober 2025 liest Heidi Rehn aus „Das doppelte
  Gesicht“\, dem ersten Band ihrer Krimiserie um das ungleiche Ermittlerp
 aar Billa Löwenfeld und Emil Graf.\nMit der Historikerin Lilly Maier spri
 cht sie über die Stadt und ihre Bewohner*innen in den ersten Monaten nach
  der Befreiung vom Nationalsozialismus sowie unter amerikanischer Besatzun
 g\, über München als zentralen Sammelpunkt der verschiedensten Heim- und
  Rückkehrergruppen sowie der „Displaced Persons“.\n\nGab es tatsächl
 ich eine „Stunde Null“\, war ein Neubeginn für alle denkbar? Wie habe
 n die Menschen die Herausforderungen erlebt\, wie den frisch begonnenen Fr
 ieden und die wieder gewonnene Freiheit aufgenommen? War ein Miteinander (
 noch/ wieder) möglich?
CATEGORIES:Lesung
LOCATION:Stadtbibliothk Moosach\, Hanauer Str. 61a\, München\, 80992\, Deu
 tschland
X-APPLE-STRUCTURED-LOCATION;VALUE=URI;X-ADDRESS=Hanauer Str. 61a\, München
 \, 80992\, Deutschland;X-APPLE-RADIUS=100;X-TITLE=Stadtbibliothk Moosach:g
 eo:0,0
END:VEVENT
BEGIN:VTIMEZONE
TZID:Europe/Berlin
X-LIC-LOCATION:Europe/Berlin
BEGIN:STANDARD
DTSTART:20251026T020000
TZOFFSETFROM:+0200
TZOFFSETTO:+0100
TZNAME:CET
END:STANDARD
END:VTIMEZONE
END:VCALENDAR