BEGIN:VCALENDAR
VERSION:2.0
PRODID:-//wp-events-plugin.com//7.2.3.1//EN
TZID:Europe/Berlin
X-WR-TIMEZONE:Europe/Berlin
BEGIN:VEVENT
UID:12195@literaturseiten-muenchen.de
DTSTART;TZID=Europe/Berlin:20260129T190000
DTEND;TZID=Europe/Berlin:20260129T203000
DTSTAMP:20251202T144559Z
URL:https://www.literaturseiten-muenchen.de/veranstaltungen/das-gluecklich
 e-leben-lesung-mit-david-foenkinos/
SUMMARY:»Das glückliche Leben« Lesung mit David Foenkinos
DESCRIPTION:In Frankreich wird er als »Philosoph der Liebe« gefeiert\, mi
 t »Nathalie küsst« gelang ihm weltweit der Durchbruch: David Foenkinos.
  Seine Bücher wurden in über 40 Sprachen übersetzt\, viele davon für d
 ie große Leinwand verfilmt. In seinem neusten Roman »Das glückliche Leb
 en« (Kiepenheuer &amp\; Witsch // dt. von Christian Kolb) stellt er seine
 m Protagonisten die Frage aller Fragen: Worauf kommt es im Leben wirklich 
 an? Für Éric\, ein Geschäftsmann mittleren Alters aus Paris\, wird eine
  Reise nach Seoul zum echten Wendepunkt: Inspiriert von seiner Erfahrung i
 n einem »Happy Life« Resort\, wagt er zuhause einen radikalen Neuanfang.
  Unnachahmlich charmant zeigt David Foenkinos\, dass man sein Leben jederz
 eit ändern könnte – wenn man nur will.\n\nTickets erhältlich unter Re
 serviX:\nEINTRITT: EURO 16.- / 10.-\nSTREAM-TICKETS: EURO 8.-\n\nSPRACHEN:
  FRANZÖSISCH &amp\; DEUTSCH\n\nVeranstalter: Stiftung Literaturhaus
CATEGORIES:Buchpräsentation,Gespräch / Diskussion,Lesung
LOCATION:Literaturhaus München\, Salvatorplatz 1\, München\, Bayern\, 803
 33\, Deutschland
GEO:48.142051;11.574991
X-APPLE-STRUCTURED-LOCATION;VALUE=URI;X-ADDRESS=Salvatorplatz 1\, München\
 , Bayern\, 80333\, Deutschland;X-APPLE-RADIUS=100;X-TITLE=Literaturhaus M
 ünchen:geo:48.142051,11.574991
END:VEVENT
BEGIN:VTIMEZONE
TZID:Europe/Berlin
X-LIC-LOCATION:Europe/Berlin
BEGIN:STANDARD
DTSTART:20251026T020000
TZOFFSETFROM:+0200
TZOFFSETTO:+0100
TZNAME:CET
END:STANDARD
END:VTIMEZONE
END:VCALENDAR