BEGIN:VCALENDAR
VERSION:2.0
PRODID:-//wp-events-plugin.com//7.2.3.1//EN
TZID:Europe/Berlin
X-WR-TIMEZONE:Europe/Berlin
BEGIN:VEVENT
UID:11708@literaturseiten-muenchen.de
DTSTART;TZID=Europe/Berlin:20251027T190000
DTEND;TZID=Europe/Berlin:20251027T210000
DTSTAMP:20250905T113456Z
URL:https://www.literaturseiten-muenchen.de/veranstaltungen/das-herbstlich
 e-und-aristokratische-turin-von-nietzsche/
SUMMARY:Das herbstliche und aristokratische Turin von Nietzsche
DESCRIPTION:&nbsp\;\n\nVortag von Vivetta Vivarelli\n\nTurin empfängt Niet
 zsche\, der immer wieder auf der verzweifelten Suche nach einem Ort ist\, 
 an dem er die für ihn „bedenkliche und schädliche Zeit“ des Frühlin
 gs verbringen kann. Hier wird er – mit der Sommerpause in Sils Maria –
  die Monate vom Ende September 1888 bis zum Ende seines bewussten Lebens v
 erbringen. Diese Zeit ist von einem großen schöpferischen Schwung gekenn
 zeichnet. Die „würdige und ernste Stadt“ und „Residenz des 17. Jahr
 hunderts“ hat ihn sofort für sich gewonnen. Die Briefe aus diesem letzt
 en Jahr zeigen einen unverkennbar euphorischen Ton und bezeugen entscheide
 nde Ereignisse in Nietzsches Leben\, wie den Anfang seines Ruhms in intern
 ationalen Kreisen\, die Suche nach hervorragenden Übersetzern und „Meis
 tern der Sprache“ sowie seinen Briefwechsel mit Strindberg.\n\nEintritt 
 Mitglieder 5\, Gäste 10 Euro\n\n&nbsp\;
CATEGORIES:Vortrag
LOCATION:Seidlvilla\, Nikolaiplatz 1b\, München\, 80802\, Deutschland
GEO:48.15867;11.587729999999965
X-APPLE-STRUCTURED-LOCATION;VALUE=URI;X-ADDRESS=Nikolaiplatz 1b\, München\
 , 80802\, Deutschland;X-APPLE-RADIUS=100;X-TITLE=Seidlvilla:geo:48.15867,1
 1.587729999999965
END:VEVENT
BEGIN:VTIMEZONE
TZID:Europe/Berlin
X-LIC-LOCATION:Europe/Berlin
BEGIN:STANDARD
DTSTART:20251026T020000
TZOFFSETFROM:+0200
TZOFFSETTO:+0100
TZNAME:CET
END:STANDARD
END:VTIMEZONE
END:VCALENDAR