BEGIN:VCALENDAR
VERSION:2.0
PRODID:-//wp-events-plugin.com//7.2.3.1//EN
TZID:Europe/Berlin
X-WR-TIMEZONE:Europe/Berlin
BEGIN:VEVENT
UID:11890@literaturseiten-muenchen.de
DTSTART;TZID=Europe/Berlin:20251130T180000
DTEND;TZID=Europe/Berlin:20251130T193000
DTSTAMP:20251007T124447Z
URL:https://www.literaturseiten-muenchen.de/veranstaltungen/das-sterben-de
 r-demokratie-ein-abend-mit-richard-c-schneider-peter-r-neumann/
SUMMARY:»Das Sterben der Demokratie« Ein Abend mit Richard C. Schneider &
 amp\; Peter R. Neumann
DESCRIPTION:Moderation: Shahrzad Eden Osterer (BR)\n\nWeltweit gewinnen Rec
 htspopulisten massiv an Unterstützung und gefährden die liberale Demokra
 tie. Peter R. Neumann\, einer der international gefragtesten Extremismusex
 perten\, und der vielfach ausgezeichnete Journalist und Dokumentarfilmer R
 ichard C. Schneider haben sich unter anderem in Ungarn\, Frankreich\, den 
 Niederlanden\, Italien und den USA umgesehen. Ihre augenöffnende Recherch
 e (Rowohlt Berlin) zeigt wie unter einem Brennglas\, welcher Gefahr Deutsc
 hland gegenübersteht.\n\n&nbsp\;\n\nEINTRITT: EURO 20.- / 10.- (Tickets a
 n der Theaterkasse in der Maximilianstraße 26-28 und unter www.muenchner-
 kammerspiele.de)Veranstalter: Kammerspiele München // in Kooperation mit 
 dem Literaturhaus München &amp\; dem Kulturzentrum der Israelitischen Kul
 tusgemeinde München &amp\; Obb.\n\n\nAus der Reihe: LITERATUR(AUSSER)HAUS
 \n
CATEGORIES:Buchpräsentation,Gespräch / Diskussion
LOCATION:Münchner Kammerspiele\, Maximilianstr. 26-28\, München\, Deutsch
 land
GEO:48.13848;11.582380000000057
X-APPLE-STRUCTURED-LOCATION;VALUE=URI;X-ADDRESS=Maximilianstr. 26-28\, Mün
 chen\, Deutschland;X-APPLE-RADIUS=100;X-TITLE=Münchner Kammerspiele:geo:4
 8.13848,11.582380000000057
END:VEVENT
BEGIN:VTIMEZONE
TZID:Europe/Berlin
X-LIC-LOCATION:Europe/Berlin
BEGIN:STANDARD
DTSTART:20251026T020000
TZOFFSETFROM:+0200
TZOFFSETTO:+0100
TZNAME:CET
END:STANDARD
END:VTIMEZONE
END:VCALENDAR