BEGIN:VCALENDAR
VERSION:2.0
PRODID:-//wp-events-plugin.com//7.2.3.1//EN
TZID:Europe/Berlin
X-WR-TIMEZONE:Europe/Berlin
BEGIN:VEVENT
UID:12008@literaturseiten-muenchen.de
DTSTART;TZID=Europe/Berlin:20251104T200000
DTEND;TZID=Europe/Berlin:20251104T220000
DTSTAMP:20251017T192758Z
URL:https://www.literaturseiten-muenchen.de/veranstaltungen/delschad-numan
 -khorschid-nirgendwo-ist-mein-zuhause/
SUMMARY:Delschad Numan Khorschid „Nirgendwo ist mein Zuhause“
DESCRIPTION:Träger des Bayerischen Buchpreises 2025. 2001 machte sich der 
 17-jährige mittellose irakische Kurde Delschad allein auf den Weg nach Eu
 ropa. Zwei Jahre dauerte seine Flucht über den Iran\, die Türkei bis nac
 h München. Seine Kindheit war geprägt von der Verfolgung und Ermordung d
 er kurdischen Minderheit im Norden Iraks. Heute arbeitet Delschad erfolgre
 ich als Schauspieler am Münchner Residenztheater.\n\nIn deutscher Sprache
  schreibt Delschad Gedichte\, in denen er eindringlich seine Fluchterfahru
 ngen zum Ausdruck bringt. Mit Fotografien dokumentiert er seinen Blick auf
  das Leben in Deutschland und auch seine Besuche in der alten Heimat. Die 
 Gedichte\, die Fotografien\, aber auch die Beschreibungen seiner Flucht in
  Prosa ergeben ein dichtes Bild seiner Fluchterfahrungen.\n\nEintritt 15
 €
CATEGORIES:Lesung
LOCATION:Buch & Café Lentner\, Balanstr. 14\, München\, Bayern\, 81669\, 
 Deutschland
GEO:48.127;11.594632
X-APPLE-STRUCTURED-LOCATION;VALUE=URI;X-ADDRESS=Balanstr. 14\, München\, B
 ayern\, 81669\, Deutschland;X-APPLE-RADIUS=100;X-TITLE=Buch & Café Lentne
 r:geo:48.127,11.594632
END:VEVENT
BEGIN:VTIMEZONE
TZID:Europe/Berlin
X-LIC-LOCATION:Europe/Berlin
BEGIN:STANDARD
DTSTART:20251026T020000
TZOFFSETFROM:+0200
TZOFFSETTO:+0100
TZNAME:CET
END:STANDARD
END:VTIMEZONE
END:VCALENDAR